Workbook

Sheet Sheet1
A1: HSS-26-062 - RUAL COMMUNITY HEALTH HUBS
A2: Non-Mandatory Pre-bid Meeting Attendance - March 20, 2026 @ 1 PM EDT
A3: Name | B3: Organization | C3: Email
A4: Alexandra Wynn | B4: University of Delaware/State Health Improvement Plan | C4: alexwynn@udel.edu
A5: Amanda Shell Jennings | B5: DocGo | C5: Amanda.Jennings@docgo.com
A6: Amit Patel | B6: Outcomes | C6: apatel2@outcomes.com
A7: Amy Desmond | B7: YMCA DE | C7: ADesmond@ymcade.org
A8: Anna Quici | B8: Liberty Health | C8: anna.quici@LibertyHealth.com | E8: {=VLOOKUP(TRIM($A8),Sheet2!$A$1:$E$93,5,falseI)} -> #NAME?
A9: Ashna Khianey | B9: Care First | C9: Ashna.Khianey@carefirst.com | E9: {=IFERROR(VLOOKUP($A9,Sheet2!$A$1:$E$93,5,falseI),"")}
A10: Brittney Pride | B10: Delaware State University | C10: bpride@desu.edu | E10: {=IFERROR(VLOOKUP($A10,Sheet2!$A$1:$E$93,5,falseI),"")}
A11: Carla Allison | B11: SAIC | C11: carla.allison@saic.com | E11: {=IFERROR(VLOOKUP($A11,Sheet2!$A$1:$E$93,5,falseI),"")}
A12: Carrie Hart | B12: Bay Health | C12: carrie_hart@bayhealth.org | E12: {=IFERROR(VLOOKUP($A12,Sheet2!$A$1:$E$93,5,falseI),"")}
A13: Carrie O'Rourke | B13: OnMed | C13: corourke@onmed.com | E13: {=IFERROR(VLOOKUP($A13,Sheet2!$A$1:$E$93,5,falseI),"")}
A14: Celeste Gushee | B14: International SOS, Government Medical Services | C14: celeste.gushee@internationalsosgs.us | E14: {=IFERROR(VLOOKUP($A14,Sheet2!$A$1:$E$93,5,falseI),"")}
A15: Cheyne Rauber | B15: MS Vehicles | C15: crauber@msvehicles.com | E15: {=IFERROR(VLOOKUP($A15,Sheet2!$A$1:$E$93,5,falseI),"")}
A16: Dalton Dennis | B16: IM Mytech | C16: Dalton-Dennis@immytech.com | E16: {=IFERROR(VLOOKUP($A16,Sheet2!$A$1:$E$93,5,falseI),"")}
A17: Dane Bluestone | B17: Atracare | C17: dbluestone@atracare.com | E17: {=IFERROR(VLOOKUP($A17,Sheet2!$A$1:$E$93,5,falseI),"")} | F17: Celeste Gushee
A18: Danielle Olszeski | B18: Hamilton Health Box | C18: danielle.olszeski@hamiltonhealthb | E18: {=IFERROR(VLOOKUP($A18,Sheet2!$A$1:$E$93,5,falseI),"")}
A19: Divya Sridhar | B19: Deloitte | C19: disridhar@DELOITTE.com | E19: {=IFERROR(VLOOKUP($A19,Sheet2!$A$1:$E$93,5,falseI),"")}
A20: Dr. Luis Dupree Jones | B20: Dupree Innovations, LLC | C20: DrLou@Dupree-Innovations.com | E20: {=IFERROR(VLOOKUP($A20,Sheet2!$A$1:$E$93,5,falseI),"")}
A21: Drew Summerford | B21: Matthews Specialty Vehicles | C21: drewsummerford@msvehicles.com | E21: {=IFERROR(VLOOKUP($A21,Sheet2!$A$1:$E$93,5,falseI),"")}
A22: Ed Jones | B22: Medi-Connect | C22: eljones@medi-connect.us | E22: {=IFERROR(VLOOKUP($A22,Sheet2!$A$1:$E$93,5,falseI),"")}
A23: Elina bajracharya | B23: Benten Technologies | C23: ebajracharya@bententech.com | E23: {=IFERROR(VLOOKUP($A23,Sheet2!$A$1:$E$93,5,falseI),"")}
A24: Eliza | E24: {=IFERROR(VLOOKUP($A24,Sheet2!$A$1:$E$93,5,falseI),"")}
A25: Elliott Emerich | B25: Unite US | C25: Elliott.Emerich@uniteus.com | E25: {=IFERROR(VLOOKUP($A25,Sheet2!$A$1:$E$93,5,falseI),"")}
A26: Emily Holmes | B26: Planned Parenthood of Delaware | C26: eholmes@ppde.org | E26: {=IFERROR(VLOOKUP($A26,Sheet2!$A$1:$E$93,5,falseI),"")}
A27: Erica Joyce | B27: Skyscape | C27: erica@skyscape.com | E27: {=IFERROR(VLOOKUP($A27,Sheet2!$A$1:$E$93,5,falseI),"")}
A28: Gina Johnson | B28: Delaware Kidney | C28: gjohnston@delawarekidney.com | E28: {=IFERROR(VLOOKUP($A28,Sheet2!$A$1:$E$93,5,falseI),"")}
A29: Greg Sharks | B29: TESCO Bus | C29: gshanks@tescobus.com | E29: {=IFERROR(VLOOKUP($A29,Sheet2!$A$1:$E$93,5,falseI),"")}
A30: Gregory Mann | B30: TidalHealth | C30: Gregory.Mann@tidalhealth.org | E30: {=IFERROR(VLOOKUP($A30,Sheet2!$A$1:$E$93,5,falseI),"")}
A31: Gwen Angalet | B31: GBA Consulting | C31: gangalet@comcast.net | E31: {=IFERROR(VLOOKUP($A31,Sheet2!$A$1:$E$93,5,falseI),"")}
A32: Harriet Starr | B32: PMG Consulting | C32: hstarr@pmgconsulting.net | E32: {=IFERROR(VLOOKUP($A32,Sheet2!$A$1:$E$93,5,falseI),"")}
A33: Heather Patosky | B33: Westside Health | C33: Heather.Patosky@Westsidehealth.org | E33: {=IFERROR(VLOOKUP($A33,Sheet2!$A$1:$E$93,5,falseI),"")}
A34: Henry Nyce | B34: TidalHealth | C34: henry.nyce@tidalhealth.org | E34: {=IFERROR(VLOOKUP($A34,Sheet2!$A$1:$E$93,5,falseI),"")}
A35: Hilarea Amthauer | B35: Gainwell Technonogies | C35: hilarea.amthauer@gainwelltechnologies.com | E35: {=IFERROR(VLOOKUP($A35,Sheet2!$A$1:$E$93,5,falseI),"")}
A36: Hugh Charles | E36: {=IFERROR(VLOOKUP($A36,Sheet2!$A$1:$E$93,5,falseI),"")}
A37: Irene Marwa, MD | B37: RHOBIMD HEALTH | C37: irene.rhobi001@gmail.com | E37: {=IFERROR(VLOOKUP($A37,Sheet2!$A$1:$E$93,5,falseI),"")}
A38: James Trumble | B38: TidalHealth | C38: James.Trumble@tidalhealth.org | E38: {=IFERROR(VLOOKUP($A38,Sheet2!$A$1:$E$93,5,falseI),"")}
A39: Jarrod Borkat | B39: On Demand Pharmaceuticals | C39: jborkat@ondemandpharma.com | E39: {=IFERROR(VLOOKUP($A39,Sheet2!$A$1:$E$93,5,falseI),"")}
A40: Jeanine Kleimo | B40: Dover Interfaith Mission for Housing | C40: interfaithdover@verizon.net | E40: {=IFERROR(VLOOKUP($A40,Sheet2!$A$1:$E$93,5,falseI),"")}
...

Sheet Sheet2
A1: Gwen Angalet | B1: 46101.542 | C1: 2:19:07 PM 1h 18m 30s Presenter
A2: James Trumble | B2: 46101.542 | C2: 2:12:09 PM 1h 11m 28s James.Trumble@tidalhealth.org Presenter | E2: james.trumble@tidalhealth.org
A3: Stephan Jean | B3: 46101.542 | C3: 2:19:12 PM 1h 18m 32s sjean@docgo.com Presenter | E3: sjean@docgo.com
A4: 19786187327 | B4: 46101.542 | C4: 1:22:04 PM 18m 10s Attendee
A5: Celeste Gushee | B5: International SOS (Unverified) 3/20/26 | C5: 46101.542 | D5: 2:19:46 PM 1h 19m 4s Presenter
A6: Prayus Tailor | B6: 46101.542 | C6: 2:18:16 PM 1h 17m 35s ptailor@delawarekidney.com Presenter | E6: ptailor@delawarekidney.com
A7: Dalton Dennis | B7: 46101.542 | C7: 1:34:35 PM 33m 54s Dalton-Dennis@immytech.com Presenter | E7: Dalton-Dennis@immytech.com
A8: Drew Summerford (Matthews Specialty Vehicles) | B8: 46101.542 | C8: 2:05:31 PM 1h 4m 50s Presenter
A9: Kate | B9: 46101.542 | C9: 2:14:06 PM 1h 13m 25s Presenter
A10: Michael Sentz's Notetaker by Spinach AI | B10: 46101.542 | C10: 2:20:22 PM 1h 19m 38s Presenter
A11: Lael Bialek | B11: 46101.542 | C11: 1:59:49 PM 59m 5s lael@visiontolearn.org Presenter | E11: lael@visiontolearn.org
A12: Kelsey Lofton | B12: 46101.542 | C12: 2:19:29 PM 1h 18m 44s kelsey@socialstrategytx.com Presenter | E12: kelsey@socialstrategytx.com
A13: Jim Clark | B13: 46101.542 | C13: 2:10:28 PM 1h 9m 43s Jim.Clark@docgo.com Presenter | E13: Jim.Clark@docgo.com
A14: Hugh Charles | B14: 46101.542 | C14: 2:19:16 PM 1h 18m 31s Presenter
A15: Kimberly Blanch | B15: Kimberly 3/20/26 | C15: 46101.542 | D15: 2:19:12 PM 1h 18m 27s kblanch@beebehealthcare.org Presenter | E15: kblanch@beebehealthcare.org
A16: Sarah Izzo | B16: 46101.542 | C16: 2:20:21 PM 1h 19m 36s sarah.izzo@littlebig.health Presenter | E16: sarah.izzo@littlebig.health
A17: Heather Patosky | B17: 46101.542 | C17: 2:19:09 PM 1h 18m 24s Heather.Patosky@Westsidehealth.org Presenter | E17: Heather.Patosky@Westsidehealth.org
A18: Greg Shanks | B18: 46101.542 | C18: 2:19:22 PM 1h 18m 37s gshanks@tescobus.com Presenter | E18: gshanks@tescobus.com
A19: Tanisha Armstrong | B19: 46101.542 | C19: 2:19:07 PM 1h 18m 22s tanisha.armstrong@tidalhealth.org Presenter | E19: tanisha.armstrong@tidalhealth.org
A20: Laurie Lucinski | B20: Laurie 3/20/26 | C20: 46101.542 | D20: 2:19:02 PM 1h 18m 17s llucinski@beebehealthcare.org Presenter | E20: llucinski@beebehealthcare.org
A21: Carrie O'Rourke | B21: 46101.542 | C21: 2:19:25 PM 1h 18m 40s corourke@onmed.com Presenter | E21: corourke@onmed.com
A22: Sharad Patel | B22: 46101.542 | C22: 2:19:12 PM 1h 18m 27s spatel@doverfamilyphysicians.com Presenter | E22: spatel@DOVERFAMILYPHYSICIANS.COM
A23: Hilarea Amthauer | B23: Hilarea (External) 3/20/26 | C23: 46101.542 | D23: 1:10:29 PM 9m 44s hilarea.amthauer@gainwelltechnologies.com Presenter | E23: hilarea.amthauer@gainwelltechnologies.com
A24: Maggie Norris-Bent | B24: 46101.542 | C24: 2:10:43 PM 1h 9m 58s Maggie.Norris-Bent@Westsidehealth.org Presenter | E24: maggie.norris@Westsidehealth.org
A25: Ashbna Khianey | B25: Ashna 3/20/26 | C25: 46101.542 | D25: 2:19:03 PM 1h 18m 16s AAF6254@carefirst.com Presenter | E25: Ashna.Khianey@carefirst.com
A26: Carrie Hart | B26: 46101.542 | C26: 2:03:06 PM 1h 2m 19s Presenter
A27: read.ai meeting notes | B27: 46101.542 | C27: 2:20:26 PM 1h 19m 40s Presenter
A28: Kirstan Brown | B28: 46101.542 | C28: 2:19:18 PM 1h 18m 32s Presenter
A29: Marwa | B29: 46101.542 | C29: 2:19:13 PM 1h 18m 26s Presenter
A30: Dane Bluestone | B30: 46101.542 | C30: 2:19:05 PM 1h 18m 18s Presenter
A31: Katie Vinson | B31: 46101.542 | C31: 2:05:15 PM 1h 4m 24s kvinson@sironastrategies.com kvinson@sironastrategies.com Presenter | E31: kvinson@sironastrategies.com
A32: Amit Patel | B32: 46101.542 | C32: 2:19:09 PM 1h 5m 59s apatel2@outcomes.com Presenter | E32: apatel2@outcomes.com
A33: Elliott Emerich | B33: 46101.542 | C33: 2:13:09 PM 1h 11m 59s Elliott.Emerich@uniteus.com Presenter | E33: Elliott.Emerich@uniteus.com
A34: Jeanine Kleimo | B34: 46101.542 | C34: 2:16:02 PM 1h 14m 50s Presenter
A35: Harriet Starr | B35: 46101.543 | C35: 2:19:07 PM 1h 17m 52s hstarr@pmgconsulting.net hstarr@pmgconsulting.net Presenter | E35: hstarr@pmgconsulting.net
A36: Gregory Mann | B36: 46101.543 | C36: 2:19:50 PM 1h 18m 28s Gregory.Mann@tidalhealth.org Presenter | E36: Gregory.Mann@tidalhealth.org
A37: Amy Desmond | B37: Amy 3/20/26 | C37: 46101.543 | D37: 2:19:18 PM 1h 17m 56s ADesmond@ymcade.org ADesmond@ymcade.org Presenter | E37: ADesmond@ymcade.org
A38: Joy | B38: 46101.543 | C38: 1:18:04 PM 16m 41s Presenter
A39: Kelli Bristow | B39: Kelli 3/20/26 | C39: 46101.543 | D39: 2:18:55 PM 1h 17m 27s kbristow@ppde.org Presenter | E39: kbristow@ppde.org
A40: Eliza | B40: 46101.543 | C40: 2:19:08 PM 1h 17m 37s Presenter
...

Sheet Did NOT Attend
A1: HSS-25-018 EMERGENCY SYSTEM FOR ADVANCED REGISTRATION OF VOLUNTEER HEALTH PROFESSIONALS (ESAR-VHP) AND HEALTH ALERT NETWORK (HAN)
A2: Pre-bid Meeting Attendance - January 10, 2025 @ 1 PM EDT
A3: Name | B3: Organization | C3: Email | D3: RSVP'd | E3: Attended
A4: Wendi Kozma | B4: BerryDunn | C4: Wendi.Kozma@berrydunn.com | D4: X
A5: Mary Corley | B5: BerryDunn | C5: mcorley@berrydunn.com | D5: X
A6: Jennifer Price | B6: BerryDunn | C6: JPrice@berrydunn.com | D6: X
A7: Alishia Nadeau | B7: BerryDunn | C7: aNadeau@berrydunn.com | D7: X
A8: Dr. Tunde Kehinde | B8: Entrepreneurial Consulting LLC | C8: TKEHINDE@AOL.COM | D8: X
A9: Dr. Kayode Abegunde | B9: Entrepreneurial Consulting LLC | C9: kabegunde@entrepreneurialconsulting.org | D9: X
