Workbook

Sheet Sheet1
A1: HSS-26-062 - RUAL COMMUNITY HEALTH HUBS
A2: Non-Mandatory Pre-bid Meeting Attendance - March 20, 2026 @ 1 PM EDT
A3: Name | B3: Organization | C3: Email
A4: Alexandra Wynn | B4: University of Delaware/State Health Improvement Plan | C4: alexwynn@udel.edu
A5: Amanda Shell Jennings | B5: DocGo | C5: Amanda.Jennings@docgo.com
A6: Amit Patel | B6: Outcomes | C6: apatel2@outcomes.com
A7: Amy Desmond | B7: YMCA DE | C7: ADesmond@ymcade.org
A8: Anna Quici | B8: Liberty Health | C8: anna.quici@LibertyHealth.com | E8: {=VLOOKUP(TRIM($A8),Sheet2!$A$1:$E$93,5,falseI)} -> #NAME?
A9: Ashna Khianey | B9: Care First | C9: Ashna.Khianey@carefirst.com | E9: {=IFERROR(VLOOKUP($A9,Sheet2!$A$1:$E$93,5,falseI),"")}
A10: Brittney Pride | B10: Delaware State University | C10: bpride@desu.edu | E10: {=IFERROR(VLOOKUP($A10,Sheet2!$A$1:$E$93,5,falseI),"")}
A11: Carla Allison | B11: SAIC | C11: carla.allison@saic.com | E11: {=IFERROR(VLOOKUP($A11,Sheet2!$A$1:$E$93,5,falseI),"")}
A12: Carrie Hart | B12: Bay Health | C12: carrie_hart@bayhealth.org | E12: {=IFERROR(VLOOKUP($A12,Sheet2!$A$1:$E$93,5,falseI),"")}
A13: Carrie O'Rourke | B13: OnMed | C13: corourke@onmed.com | E13: {=IFERROR(VLOOKUP($A13,Sheet2!$A$1:$E$93,5,falseI),"")}
A14: Celeste Gushee | B14: International SOS, Government Medical Services | C14: celeste.gushee@internationalsosgs.us | E14: {=IFERROR(VLOOKUP($A14,Sheet2!$A$1:$E$93,5,falseI),"")}
A15: Cheyne Rauber | B15: MS Vehicles | C15: crauber@msvehicles.com | E15: {=IFERROR(VLOOKUP($A15,Sheet2!$A$1:$E$93,5,falseI),"")}
A16: Dalton Dennis | B16: IM Mytech | C16: Dalton-Dennis@immytech.com | E16: {=IFERROR(VLOOKUP($A16,Sheet2!$A$1:$E$93,5,falseI),"")}
A17: Dane Bluestone | B17: Atracare | C17: dbluestone@atracare.com | E17: {=IFERROR(VLOOKUP($A17,Sheet2!$A$1:$E$93,5,falseI),"")} | F17: Celeste Gushee
A18: Danielle Olszeski | B18: Hamilton Health Box | C18: danielle.olszeski@hamiltonhealthb | E18: {=IFERROR(VLOOKUP($A18,Sheet2!$A$1:$E$93,5,falseI),"")}
A19: Divya Sridhar | B19: Deloitte | C19: disridhar@DELOITTE.com | E19: {=IFERROR(VLOOKUP($A19,Sheet2!$A$1:$E$93,5,falseI),"")}
A20: Dr. Luis Dupree Jones | B20: Dupree Innovations, LLC | C20: DrLou@Dupree-Innovations.com | E20: {=IFERROR(VLOOKUP($A20,Sheet2!$A$1:$E$93,5,falseI),"")}
A21: Drew Summerford | B21: Matthews Specialty Vehicles | C21: drewsummerford@msvehicles.com | E21: {=IFERROR(VLOOKUP($A21,Sheet2!$A$1:$E$93,5,falseI),"")}
A22: Ed Jones | B22: Medi-Connect | C22: eljones@medi-connect.us | E22: {=IFERROR(VLOOKUP($A22,Sheet2!$A$1:$E$93,5,falseI),"")}
A23: Elina bajracharya | B23: Benten Technologies | C23: ebajracharya@bententech.com | E23: {=IFERROR(VLOOKUP($A23,Sheet2!$A$1:$E$93,5,falseI),"")}
A24: Eliza | E24: {=IFERROR(VLOOKUP($A24,Sheet2!$A$1:$E$93,5,falseI),"")}
A25: Elliott Emerich | B25: Unite US | C25: Elliott.Emerich@uniteus.com | E25: {=IFERROR(VLOOKUP($A25,Sheet2!$A$1:$E$93,5,falseI),"")}
A26: Emily Holmes | B26: Planned Parenthood of Delaware | C26: eholmes@ppde.org | E26: {=IFERROR(VLOOKUP($A26,Sheet2!$A$1:$E$93,5,falseI),"")}
A27: Erica Joyce | B27: Skyscape | C27: erica@skyscape.com | E27: {=IFERROR(VLOOKUP($A27,Sheet2!$A$1:$E$93,5,falseI),"")}
A28: Gina Johnson | B28: Delaware Kidney | C28: gjohnston@delawarekidney.com | E28: {=IFERROR(VLOOKUP($A28,Sheet2!$A$1:$E$93,5,falseI),"")}
A29: Greg Sharks | B29: TESCO Bus | C29: gshanks@tescobus.com | E29: {=IFERROR(VLOOKUP($A29,Sheet2!$A$1:$E$93,5,falseI),"")}
A30: Gregory Mann | B30: TidalHealth | C30: Gregory.Mann@tidalhealth.org | E30: {=IFERROR(VLOOKUP($A30,Sheet2!$A$1:$E$93,5,falseI),"")}
A31: Gwen Angalet | B31: GBA Consulting | C31: gangalet@comcast.net | E31: {=IFERROR(VLOOKUP($A31,Sheet2!$A$1:$E$93,5,falseI),"")}
A32: Harriet Starr | B32: PMG Consulting | C32: hstarr@pmgconsulting.net | E32: {=IFERROR(VLOOKUP($A32,Sheet2!$A$1:$E$93,5,falseI),"")}
A33: Heather Patosky | B33: Westside Health | C33: Heather.Patosky@Westsidehealth.org | E33: {=IFERROR(VLOOKUP($A33,Sheet2!$A$1:$E$93,5,falseI),"")}
A34: Henry Nyce | B34: TidalHealth | C34: henry.nyce@tidalhealth.org | E34: {=IFERROR(VLOOKUP($A34,Sheet2!$A$1:$E$93,5,falseI),"")}
A35: Hilarea Amthauer | B35: Gainwell Technonogies | C35: hilarea.amthauer@gainwelltechnologies.com | E35: {=IFERROR(VLOOKUP($A35,Sheet2!$A$1:$E$93,5,falseI),"")}
A36: Hugh Charles | E36: {=IFERROR(VLOOKUP($A36,Sheet2!$A$1:$E$93,5,falseI),"")}
A37: Irene Marwa, MD | B37: RHOBIMD HEALTH | C37: irene.rhobi001@gmail.com | E37: {=IFERROR(VLOOKUP($A37,Sheet2!$A$1:$E$93,5,falseI),"")}
A38: James Trumble | B38: TidalHealth | C38: James.Trumble@tidalhealth.org | E38: {=IFERROR(VLOOKUP($A38,Sheet2!$A$1:$E$93,5,falseI),"")}
A39: Jarrod Borkat | B39: On Demand Pharmaceuticals | C39: jborkat@ondemandpharma.com | E39: {=IFERROR(VLOOKUP($A39,Sheet2!$A$1:$E$93,5,falseI),"")}
A40: Jeanine Kleimo | B40: Dover Interfaith Mission for Housing | C40: interfaithdover@verizon.net | E40: {=IFERROR(VLOOKUP($A40,Sheet2!$A$1:$E$93,5,falseI),"")}
A41: Jen Fletcher | E41: {=IFERROR(VLOOKUP($A41,Sheet2!$A$1:$E$93,5,falseI),"")}
A42: Jen H | E42: {=IFERROR(VLOOKUP($A42,Sheet2!$A$1:$E$93,5,falseI),"")}
A43: Jen McLean | B43: DocGo | C43: Jen.McLean@docgo.com | E43: {=IFERROR(VLOOKUP($A43,Sheet2!$A$1:$E$93,5,falseI),"")}
A44: Jim Clerk | B44: DocGo | C44: Jim.Clark@docgo.com | E44: {=IFERROR(VLOOKUP($A44,Sheet2!$A$1:$E$93,5,falseI),"")}
A45: Joseph Hughes | B45: Delaware Child Psychiatry Access Program | C45: joseph.hughes1@delaware.gov | E45: {=IFERROR(VLOOKUP($A45,Sheet2!$A$1:$E$93,5,falseI),"")}
A46: Joy Montefusco | B46: Katsura Consulting | C46: joy@katsuraconsulting.com | E46: {=IFERROR(VLOOKUP($A46,Sheet2!$A$1:$E$93,5,falseI),"")}
A47: Julie -Ann Williams | B47: Moses/Weitzman Health System | C47: williaju@mwhs1.com | E47: {=IFERROR(VLOOKUP($A47,Sheet2!$A$1:$E$93,5,falseI),"")}
A48: Jullian Gosselin | B48: Impact Life | C48: jillian@impactlifetoday.org | E48: {=IFERROR(VLOOKUP($A48,Sheet2!$A$1:$E$93,5,falseI),"")}
A49: Kartik Shah | B49: Skyscape | C49: kartik@skyscape.com | E49: {=IFERROR(VLOOKUP($A49,Sheet2!$A$1:$E$93,5,falseI),"")}
A50: Kate Murphy | B50: Findhelp | C50: kmurphy@findhelp.com | E50: {=IFERROR(VLOOKUP($A50,Sheet2!$A$1:$E$93,5,falseI),"")}
A51: Katherine Hughes | E51: {=IFERROR(VLOOKUP($A51,Sheet2!$A$1:$E$93,5,falseI),"")}
A52: Katherine Rodgers | B52: TidalHealth | C52: katherine.rodgers@tidalhealth.org | E52: {=IFERROR(VLOOKUP($A52,Sheet2!$A$1:$E$93,5,falseI),"")}
A53: Kathryn Fiddler | B53: TidalHealth | C53: Kathryn.Fiddler@tidalhealth.org | E53: {=IFERROR(VLOOKUP($A53,Sheet2!$A$1:$E$93,5,falseI),"")}
A54: Katie Chang | B54: Benten Technologies | C54: hkchang@bententech.com | E54: {=IFERROR(VLOOKUP($A54,Sheet2!$A$1:$E$93,5,falseI),"")}
A55: Katie Vinson | B55: Sirona Strategies | C55: kvinson@sironastrategies.com | E55: {=IFERROR(VLOOKUP($A55,Sheet2!$A$1:$E$93,5,falseI),"")}
A56: Kelli Bristow | B56: Planned Parenthood of Delaware | C56: kbristow@ppde.org | E56: {=IFERROR(VLOOKUP($A56,Sheet2!$A$1:$E$93,5,falseI),"")}
A57: Kelly Nunn | B57: Care Solace | C57: kelly.nunn@caresolace.org | E57: {=IFERROR(VLOOKUP($A57,Sheet2!$A$1:$E$93,5,falseI),"")}
A58: Kelsey Lofton | B58: Social Strategy TX | C58: kelsey@socialstrategytx.com | E58: {=IFERROR(VLOOKUP($A58,Sheet2!$A$1:$E$93,5,falseI),"")}
A59: Khadjina-iisha "Cookie" Shockley | B59: Delaware State University | C59: kshockley@desu.edu | E59: {=IFERROR(VLOOKUP($A59,Sheet2!$A$1:$E$93,5,falseI),"")}
A60: Kimberly Blanch | B60: Beebe Healthcare | C60: kblanch@beebehealthcare.org | E60: {=IFERROR(VLOOKUP($A60,Sheet2!$A$1:$E$93,5,falseI),"")}
A61: Kirstan Brown | B61: International SOS Government Medical Services, Inc. | C61: kirstan.brown@internationalsosgs.us | E61: {=IFERROR(VLOOKUP($A61,Sheet2!$A$1:$E$93,5,falseI),"")}
A62: Krystyna Isaacs | B62: Benten Technologies | C62: kisaacs@bententech.com | E62: {=IFERROR(VLOOKUP($A62,Sheet2!$A$1:$E$93,5,falseI),"")}
A63: Lael Bialek | B63: Vision to Learn | C63: lael@visiontolearn.org | E63: {=IFERROR(VLOOKUP($A63,Sheet2!$A$1:$E$93,5,falseI),"")}
... A69: Maggie Norris-Bent | B69: Westside Health | C69: Maggie.Norris-Bent@Westsidehealth.o | E69: {=IFERROR(VLOOKUP($A69,Sheet2!$A$1:$E$93,5,falseI),"")}
A70: Marie Johnson | E70: {=IFERROR(VLOOKUP($A70,Sheet2!$A$1:$E$93,5,falseI),"")}
A71: Max | E71: {=IFERROR(VLOOKUP($A71,Sheet2!$A$1:$E$93,5,falseI),"")}
A72: Michael Sentz | B72: CaringWire | C72: michael@caringwire.com | E72: {=IFERROR(VLOOKUP($A72,Sheet2!$A$1:$E$93,5,falseI),"")}
A73: Milton Marwa | B73: RHOBIMD HEALTH | C73: mmarwa@rhobimd.health | E73: {=IFERROR(VLOOKUP($A73,Sheet2!$A$1:$E$93,5,falseI),"")}
A74: Misty Spratlan | B74: AMC Health | C74: misty.spratlan@amchealth.com | E74: {=IFERROR(VLOOKUP($A74,Sheet2!$A$1:$E$93,5,falseI),"")}
A75: Nicole A. Bell Rogers | B75: Delaware State University | C75: nbell@desu.edu | E75: {=IFERROR(VLOOKUP($A75,Sheet2!$A$1:$E$93,5,falseI),"")}
A76: Pamela N Miller | B76: SAIC | C76: Pamela.N.Miller-Casey@saic.com | E76: {=IFERROR(VLOOKUP($A76,Sheet2!$A$1:$E$93,5,falseI),"")}
A77: Pavitar Dua | B77: Mobiuso LLC | C77: pavitar@mobiuso.com | E77: {=IFERROR(VLOOKUP($A77,Sheet2!$A$1:$E$93,5,falseI),"")}
A78: Pia Z Stokes | B78: Delaware State University | C78: PZStokes@desu.edu | E78: {=IFERROR(VLOOKUP($A78,Sheet2!$A$1:$E$93,5,falseI),"")}
A79: Prayus Tailor | B79: Delaware Kidney | C79: ptailor@delawarekidney.com | E79: {=IFERROR(VLOOKUP($A79,Sheet2!$A$1:$E$93,5,falseI),"")}
A80: Ray Lyons | B80: CAPPA Health (HALT) | C80: Ray@Cappahealth.com | E80: {=IFERROR(VLOOKUP($A80,Sheet2!$A$1:$E$93,5,falseI),"")}
A81: Sarah Izzo | B81: LB Health Solutions | C81: sarah.izzo@littlebig.health | E81: {=IFERROR(VLOOKUP($A81,Sheet2!$A$1:$E$93,5,falseI),"")}
A82: Shangjia Dong | B82: University of Delaware | C82: sjdong@udel.edu | E82: {=IFERROR(VLOOKUP($A82,Sheet2!$A$1:$E$93,5,falseI),"")}
A83: Sharad Patel, MD | B83: Dover Family Physicians | C83: spatel@doverfamilyphysicians.com | E83: {=IFERROR(VLOOKUP($A83,Sheet2!$A$1:$E$93,5,falseI),"")}
... A85: Stephan Jean | B85: DocGo Inc | C85: sjean@docgo.com | E85: {=IFERROR(VLOOKUP($A85,Sheet2!$A$1:$E$93,5,falseI),"")}
A86: Suchir Govindarajan | B86: Uwill | C86: sgovindarajan@uwill.com
A87: Taja A. Jones | B87: Delaware State University | C87: tajones@desu.edu
A88: Tanisha Armstron | B88: TidalHealth | C88: tanisha.armstrong@tidalhealth.org
A89: Tony Ma
A90: Vundekode Vamshi Kulkarni | B90: OCITCS | C90: vundekodekulkarni.vamshi@ocitcs.org
C91: 302-535-6339
C92: 410-322-8080
C93: 434-937-1677
C94: 703-676-7890

Sheet Sheet2
A1: Gwen Angalet | B1: 46101.542 | C1: 2:19:07 PM 1h 18m 30s Presenter
A2: James Trumble | B2: 46101.542 | C2: 2:12:09 PM 1h 11m 28s James.Trumble@tidalhealth.org Presenter | E2: james.trumble@tidalhealth.org
A3: Stephan Jean | B3: 46101.542 | C3: 2:19:12 PM 1h 18m 32s sjean@docgo.com Presenter | E3: sjean@docgo.com
A4: 19786187327 | B4: 46101.542 | C4: 1:22:04 PM 18m 10s Attendee
A5: Celeste Gushee | B5: International SOS (Unverified) 3/20/26 | C5: 46101.542 | D5: 2:19:46 PM 1h 19m 4s Presenter
A6: Prayus Tailor | B6: 46101.542 | C6: 2:18:16 PM 1h 17m 35s ptailor@delawarekidney.com Presenter | E6: ptailor@delawarekidney.com
A7: Dalton Dennis | B7: 46101.542 | C7: 1:34:35 PM 33m 54s Dalton-Dennis@immytech.com Presenter | E7: Dalton-Dennis@immytech.com
A8: Drew Summerford (Matthews Specialty Vehicles) | B8: 46101.542 | C8: 2:05:31 PM 1h 4m 50s Presenter
A9: Kate | B9: 46101.542 | C9: 2:14:06 PM 1h 13m 25s Presenter
A10: Michael Sentz's Notetaker by Spinach AI | B10: 46101.542 | C10: 2:20:22 PM 1h 19m 38s Presenter
A11: Lael Bialek | B11: 46101.542 | C11: 1:59:49 PM 59m 5s lael@visiontolearn.org Presenter | E11: lael@visiontolearn.org
A12: Kelsey Lofton | B12: 46101.542 | C12: 2:19:29 PM 1h 18m 44s kelsey@socialstrategytx.com Presenter | E12: kelsey@socialstrategytx.com
A13: Jim Clark | B13: 46101.542 | C13: 2:10:28 PM 1h 9m 43s Jim.Clark@docgo.com Presenter | E13: Jim.Clark@docgo.com
A14: Hugh Charles | B14: 46101.542 | C14: 2:19:16 PM 1h 18m 31s Presenter
A15: Kimberly Blanch | B15: Kimberly 3/20/26 | C15: 46101.542 | D15: 2:19:12 PM 1h 18m 27s kblanch@beebehealthcare.org Presenter | E15: kblanch@beebehealthcare.org
A16: Sarah Izzo | B16: 46101.542 | C16: 2:20:21 PM 1h 19m 36s sarah.izzo@littlebig.health Presenter | E16: sarah.izzo@littlebig.health
A17: Heather Patosky | B17: 46101.542 | C17: 2:19:09 PM 1h 18m 24s Heather.Patosky@Westsidehealth.org Presenter | E17: Heather.Patosky@Westsidehealth.org
A18: Greg Shanks | B18: 46101.542 | C18: 2:19:22 PM 1h 18m 37s gshanks@tescobus.com Presenter | E18: gshanks@tescobus.com
A19: Tanisha Armstrong | B19: 46101.542 | C19: 2:19:07 PM 1h 18m 22s tanisha.armstrong@tidalhealth.org Presenter | E19: tanisha.armstrong@tidalhealth.org
A20: Laurie Lucinski | B20: Laurie 3/20/26 | C20: 46101.542 | D20: 2:19:02 PM 1h 18m 17s llucinski@beebehealthcare.org Presenter | E20: llucinski@beebehealthcare.org
A21: Carrie O'Rourke | B21: 46101.542 | C21: 2:19:25 PM 1h 18m 40s corourke@onmed.com Presenter | E21: corourke@onmed.com
A22: Sharad Patel | B22: 46101.542 | C22: 2:19:12 PM 1h 18m 27s spatel@doverfamilyphysicians.com Presenter | E22: spatel@DOVERFAMILYPHYSICIANS.COM
A23: Hilarea Amthauer | B23: Hilarea (External) 3/20/26 | C23: 46101.542 | D23: 1:10:29 PM 9m 44s hilarea.amthauer@gainwelltechnologies.com Presenter | E23: hilarea.amthauer@gainwelltechnologies.com
A24: Maggie Norris-Bent | B24: 46101.542 | C24: 2:10:43 PM 1h 9m 58s Maggie.Norris-Bent@Westsidehealth.org Presenter | E24: maggie.norris@Westsidehealth.org
A25: Ashbna Khianey | B25: Ashna 3/20/26 | C25: 46101.542 | D25: 2:19:03 PM 1h 18m 16s AAF6254@carefirst.com Presenter | E25: Ashna.Khianey@carefirst.com
A26: Carrie Hart | B26: 46101.542 | C26: 2:03:06 PM 1h 2m 19s Presenter
A27: read.ai meeting notes | B27: 46101.542 | C27: 2:20:26 PM 1h 19m 40s Presenter
A28: Kirstan Brown | B28: 46101.542 | C28: 2:19:18 PM 1h 18m 32s Presenter
A29: Marwa | B29: 46101.542 | C29: 2:19:13 PM 1h 18m 26s Presenter
A30: Dane Bluestone | B30: 46101.542 | C30: 2:19:05 PM 1h 18m 18s Presenter
A31: Katie Vinson | B31: 46101.542 | C31: 2:05:15 PM 1h 4m 24s kvinson@sironastrategies.com kvinson@sironastrategies.com Presenter | E31: kvinson@sironastrategies.com
A32: Amit Patel | B32: 46101.542 | C32: 2:19:09 PM 1h 5m 59s apatel2@outcomes.com Presenter | E32: apatel2@outcomes.com
A33: Elliott Emerich | B33: 46101.542 | C33: 2:13:09 PM 1h 11m 59s Elliott.Emerich@uniteus.com Presenter | E33: Elliott.Emerich@uniteus.com
A34: Jeanine Kleimo | B34: 46101.542 | C34: 2:16:02 PM 1h 14m 50s Presenter
A35: Harriet Starr | B35: 46101.543 | C35: 2:19:07 PM 1h 17m 52s hstarr@pmgconsulting.net hstarr@pmgconsulting.net Presenter | E35: hstarr@pmgconsulting.net
A36: Gregory Mann | B36: 46101.543 | C36: 2:19:50 PM 1h 18m 28s Gregory.Mann@tidalhealth.org Presenter | E36: Gregory.Mann@tidalhealth.org
A37: Amy Desmond | B37: Amy 3/20/26 | C37: 46101.543 | D37: 2:19:18 PM 1h 17m 56s ADesmond@ymcade.org ADesmond@ymcade.org Presenter | E37: ADesmond@ymcade.org
A38: Joy | B38: 46101.543 | C38: 1:18:04 PM 16m 41s Presenter
A39: Kelli Bristow | B39: Kelli 3/20/26 | C39: 46101.543 | D39: 2:18:55 PM 1h 17m 27s kbristow@ppde.org Presenter | E39: kbristow@ppde.org
A40: Eliza | B40: 46101.543 | C40: 2:19:08 PM 1h 17m 37s Presenter
A41: Julie-Ann Williams | B41: 3/20/26 | C41: 46101.543 | D41: 2:19:09 PM 1h 17m 27s williaju@mwhs1.com Presenter | E41: williaju@mwhs1.com
A42: Irene Marwa, MD | B42: MD (Unverified) 3/20/26 | C42: 46101.543 | D42: 1:42:22 PM 40m 19s Presenter
A43: Emily Holmes | B43: 3/20/26 | C43: 46101.543 | D43: 2:19:07 PM 1h 17m 5s eholmes@ppde.org Presenter | E43: eholmes@ppde.org
A44: Jillian Gosselin | B44: 46101.543 | C44: 2:18:09 PM 1h 16m 6s jillian@impactlifetoday.org Presenter | E44: jillian@impactlifetoday.org
A45: Anna Quici | B45: 46101.543 | C45: 2:19:09 PM 1h 17m 6s anna.quici@LibertyHealth.com Presenter | E45: anna.quici@libertyhealth.com
A46: Krystyna Isaacs | B46: 46101.543 | C46: 1:26:09 PM 24m 6s Presenter
A47: Michael Sentz | B47: 46101.543 | C47: 2:06:31 PM 1h 4m 28s Presenter
A48: Pavitar Dua | B48: 46101.543 | C48: 2:19:34 PM 1h 17m 27s pavitar@mobiuso.com Presenter | E48: pavitar@mobiuso.com
A49: Elina | B49: 46101.543 | C49: 2:19:03 PM 1h 16m 54s Presenter
A50: Sharon Smith | B50: 46101.543 | C50: 2:18:52 PM 1h 16m 41s SSmith@laredhealthcenter.org Presenter | E50: SSmith@laredhealthcenter.org
A51: Katie | B51: 46101.543 | C51: 2:19:12 PM 1h 16m 44s Presenter
A52: Suchir Govindarajan | B52: 46101.543 | C52: 1:53:44 PM 51m 17s Presenter
A53: 17036767890 | B53: 46101.543 | C53: 2:19:36 PM 1h 17m 6s Attendee
A54: Erica Joyce | B54: 46101.543 | C54: 2:18:57 PM 1h 16m 22s erica@skyscape.com erica@skyscape.com Presenter
A55: Shangjia Dong | B55: (External) 3/20/26 | C55: 46101.544 | D55: 1:52:18 PM 49m 29s sjdong@udel.edu Presenter | E55: sjdong@udel.edu
A56: Ray | B56: 46101.544 | C56: 2:19:32 PM 1h 16m 34s Presenter
A57: Amanda Shell Jennings | B57: 46101.544 | C57: 2:19:12 PM 1h 16m 13s Amanda.Jennings@docgo.com Presenter | E57: Amanda.Jennings@docgo.com
A58: Dr Luis Dupree Jones | B58: 46101.544 | C58: 2:19:36 PM 1h 15m 53s Presenter
A59: Gina Johnston | B59: 46101.544 | C59: 2:19:11 PM 1h 15m 24s gjohnston@delawarekidney.com Presenter | E59: gjohnston@delawarekidney.com
A60: Divya Sridhar | B60: (External) 3/20/26 | C60: 46101.544 | D60: 1:47:07 PM 43m 4s disridhar@DELOITTE.com Presenter | E60: disridhar@deloitte.com
A61: Marie Johnson | B61: 46101.545 | C61: 1:43:43 PM 39m 24s Presenter
A62: Pia Z. Stokes | B62: 46101.545 | C62: 2:00:52 PM 56m 22s PZStokes@desu.edu Presenter | E62: PZStokes@desu.edu
A63: Alexandra Wynn | B63: Alexandra (External) 3/20/26 | C63: 46101.545 | D63: 2:01:33 PM 56m 44s alexwynn@udel.edu Presenter | E63: alexwynn@udel.edu
A64: 14103228080 | B64: 46101.545 | C64: 2:19:13 PM 1h 14m 21s Attendee
A65: Jen Fletcher | B65: 46101.545 | C65: 1:59:22 PM 54m 26s Presenter
A66: Kelly Nunn | B66: 46101.545 | C66: 2:01:01 PM 55m 53s Presenter
A67: Ed Jones | B67: 46101.545 | C67: 1:58:48 PM 53m 30s eljones@medi-connect.us Presenter | E67: eljones@medi-connect.us
A68: Kartik Shah | B68: 46101.545 | C68: 2:19:10 PM 1h 13m 50s kartik@skyscape.com Presenter | E68: kartik@skyscape.com
A69: Leann Legg | B69: 46101.545 | C69: 2:20:01 PM 1h 14m 35s llegg@doverfamilyphysicians.com Presenter | E69: llegg@DOVERFAMILYPHYSICIANS.COM
A70: Max | B70: 46101.546 | C70: 2:19:23 PM 1h 13m 47s Presenter
A71: 13025356339 | B71: 46101.547 | C71: 2:19:08 PM 1h 12m 2s Attendee
A72: Katherine Rodgers | B72: 46101.547 | C72: 2:01:16 PM 53m 54s Katherine.Rodgers@tidalhealth.org Presenter | E72: Katherine.Rodgers@tidalhealth.org
A73: 17576304210 | B73: 46101.547 | C73: 1:07:37 PM 10s Attendee
A74: Kate Murphy | B74: Findhelp (Unverified) 3/20/26 | C74: 46101.547 | D74: 2:19:14 PM 1h 11m 39s Presenter
A75: Tony Ma | B75: 46101.547 | C75: 2:19:49 PM 1h 11m 47s Presenter
A76: 14346371677 | B76: 46101.548 | C76: 2:19:03 PM 1h 10m 35s Attendee
A77: Danielle Olszeski | B77: 46101.548 | C77: 2:19:02 PM 1h 9m 51s danielle.olszeski@hamiltonhealthbox.com Presenter | E77: danielle.olszeski@hamiltonhealthbox.com
A78: Jen McLean | B78: 46101.549 | C78: 2:19:08 PM 1h 8m 46s Jen.McLean@docgo.com Presenter | E78: Jen.McLean@docgo.com
A79: Lewis Juah | B79: 46101.549 | C79: 1:14:50 PM 4m 20s Presenter
A80: Carla Allison (SAIC) | B80: 46101.55 | C80: 2:19:09 PM 1h 6m 35s Presenter
A81: Brittney Pride | B81: 46101.55 | C81: 2:19:44 PM 1h 7m 5s bpride@desu.edu Presenter | E81: bpride@desu.edu
A82: Taja A. Jones | B82: 46101.55 | C82: 2:20:29 PM 1h 7m 50s tajones@desu.edu Presenter | E82: tajones@desu.edu
A83: Khadjina-iisha Shockley | B83: 46101.551 | C83: 2:19:58 PM 1h 7m 6s kshockley@desu.edu Presenter | E83: kshockley@desu.edu
A84: Lillian Gulledge | B84: 46101.551 | C84: 2:20:19 PM 1h 7m 8s lgulledge@desu.edu Presenter | E84: lgulledge@desu.edu
A85: Nicole A. Bell Rogers | B85: 46101.551 | C85: 2:19:01 PM 1h 5m 24s nbell@desu.edu Presenter | E85: nbell@desu.edu
A86: Jen H | B86: 46101.556 | C86: 1:43:06 PM 22m 11s Presenter
A87: Cheyne Rauber | B87: 46101.556 | C87: 2:09:32 PM 48m 27s crauber@msvehicles.com Presenter | E87: crauber@msvehicles.com
A88: P Miller-Casey (SAIC) | B88: 46101.566 | C88: 1:44:02 PM 8m 44s Presenter
A89: Vundekode Vamshi Kulkarni | B89: Vundekode Vamshi 3/20/26 | C89: 46101.567 | D89: 2:19:02 PM 43m 13s vundekodekulkarni.vamshi@ocitcs.oc.gov Presenter | E89: vundekodekulkarni.vamshi@ocitcs.oc.gov
A90: Kathryn Fiddler | B90: 46101.569 | C90: 1:53:40 PM 14m 33s Kathryn.Fiddler@tidalhealth.org Presenter | E90: kathryn.fiddler@tidalhealth.org
A91: Misty Spratlan | B91: 46101.577 | C91: 1:52:55 PM 1m 23s misty.spratlan@amchealth.com Presenter | E91: misty.spratlan@amchealth.com
A92: Lauren Capwell | B92: 46101.578 | C92: 2:19:11 PM 27m 6s Presenter
A93: Jarrod Borkat | B93: 46101.593 | C93: 2:19:01 PM 4m 51s jborkat@ondemandpharma.com Presenter | E93: jborkat@ondemandpharma.com

Sheet Did NOT Attend
A1: HSS-25-018 EMERGENCY SYSTEM FOR ADVANCED REGISTRATION OF VOLUNTEER HEALTH PROFESSIONALS (ESAR-VHP) AND HEALTH ALERT NETWORK (HAN)
A2: Pre-bid Meeting Attendance - January 10, 2025 @ 1 PM EDT
A3: Name | B3: Organization | C3: Email | D3: RSVP'd | E3: Attended
A4: Wendi Kozma | B4: BerryDunn | C4: Wendi.Kozma@berrydunn.com | D4: X
A5: Mary Corley | B5: BerryDunn | C5: mcorley@berrydunn.com | D5: X
A6: Jennifer Price | B6: BerryDunn | C6: JPrice@berrydunn.com | D6: X
A7: Alishia Nadeau | B7: BerryDunn | C7: aNadeau@berrydunn.com | D7: X
A8: Dr. Tunde Kehinde | B8: Entrepreneurial Consulting LLC | C8: TKEHINDE@AOL.COM | D8: X
A9: Dr. Kayode Abegunde | B9: Entrepreneurial Consulting LLC | C9: kabegunde@entrepreneurialconsulting.org | D9: X
