Workbook
Name Services: Summary!$H$6:$H$12
Name Software: Summary!$C$6:$C$12
Name Total_Training_Costs: Training!$A$25
Name Training_Costs_Subtotal: Summary!$A$35

Sheet Main Index and Instructions
A1: Appendix P - Cost Proposal
A3: Instructions:
A4: - Click on the tab of the worksheet you want to update. - Fill out information in highlighted (white) cells. - Insert or delete rows as needed - make sure to copy and paste formulas (in gray shaded cells) if you insert rows. - When you have completed a worksheet, click on the Main Index Tab to return to this Index or select another worksheet by Tab.
A5: NOTE: This workbook is setup with formulas to autocalulate costs, subtotal and total within individual tabs with references to individual tab subtotals in the Summary Tab. It is also formatted for user friendly printing in landscape mode.
A7: Make sure to complete ALL APPLICABLE WORKSHEETS for your proposal
A9: Summary | B9: Enter the following in the white highlighted areas. All other data is automatically updated from the other worksheets. - Proposer Name - Enter the name of your company - Solution Name - Enter a descriptive name of the solution you are proposing - SaaS - Enter 'Yes' if this is a Software as a Solution (Cloud based) proposal. Enter 'No' if you are proposing a locally hosted solution. - ERP Software Proposed - Define the ERP software being proposed. NOTE: This list is used in the 'Licenses' tab to summarize by Licenses in the 'Summary' tab. - Services Proposed - Define the Services being proposed. NOTE: This list is referenced in the 'Services' tab to summarize by Services in the 'Summary' tab.
A10: Licenses | B10: Provide a detailed breakout of software pricing or other licensed products needed to meet the RFP requirements. Identify the number of user licenses being proposed and clearly describe the basis for licensing and method to justify number of licenses being proposed. NOTE: The 'Software' column in this tab references the 'ERP Software Proposed' list in the 'Summary' tab. Make sure to select a valid entry so that the 'Licenses and Ongoing Maintenance Costs' section in the 'Summary' tab will summarize correctly.
A11: Services | B11: Identify the quantity, hourly rate, and total cost for all professional services needed to ensure a successful implementation. Proposers are encouraged to provide a breakdown of the service categories that will be provided to support the implementation to allow evaluators to understand the level of effort, resources, and cost of services. NOTE: The 'Software' column in this tab references the 'ERP Software Proposed' list in the 'Summary' tab. And the 'Services' column in this tab references the 'Services Proposed' list in the Summary tab. Make sure to select a valid entries for these columns so that the 'Services Cost by Service' and 'Services cost by Software' sections in the 'Summary' tab will summarize correctly.
A12: SaaS-Hosting | B12: Provide a detailed breakout of software hosted pricing needed to meet the RFP requirements. NOTE: The 'Software' column in this tab references the 'ERP Software Proposed' list in the 'Summary' tab. Make sure to select a valid entry so that the 'Hosting Costs' section in the 'Summary' tab will summarize correctly.
A13: Training
A14: Optional Products | B14: Identify any optional product offerings that may be of interest that the Proposer would like to recommend.
A15: Optional Services | B15: Identify any optional service offerings that may be of interest that the Proposer would like to recommend.

Sheet Summary
A1: Solution Pricing Summary
A3: Proposer Name: | B3: <Enter Proposer Name> | G3: SaaS (Yes/No): | H3: <Enter Yes or No>
A4: Solution Name: | B4: <Enter Solution Description>
C5: PHCM: | E5: FMS:
B6: ERP Software Proposed: | C6: Classification | E6: PO | G6: Services Proposed: | H6: Setup
C7: Compensation | E7: AP | H7: Single Sign-on (SSO)
C8: Recruitment | E8: Sourcing | H8: Branding
C9: Onboarding | E9: eProcurement | H9: Time Clock Devices
C10: Offboarding | E10: Supplier Portal | H10: Inegration
C11: Core HR | E11: Supplier Maintenance
C12: Learning Management | E12: Pcard
C13: Time and Leave Administration | E13: Requisition
C14: Benefits | E14: AR
C15: Payroll | E15: Billing
C16: PHCM-Reporting Analytics | E16: Cach Management
C17: Data Change Request Management | E17: Project Costing
C18: Forms | E18: Grants Management
C19: Employee Self Service | E19: Contract Management
E20: Asset Management
E21: FMS-Reporting Analytics
E22: Budget
E23: Budget Control
E24: GL
E25: Lease Management
E26: Expense Management
E27: Forms
A31: Solution Pricing Summary | C31: One Time | D31: Year 1 | E31: Year 2 | F31: Year 3 | G31: Year 4 | H31: Year 5 | I31: Year 6 | J31: Year 7 | K31: Year 8 | L31: Year 9 | M31: Year 10 | N31: Grand Total
A32: =CONCATENATE(Licenses!A8," Subtotal") -> Licenses and Ongoing Maintenance Costs Subtotal | C32: =C79 -> 0 | D32: =D79 -> 0 | E32: =E79 -> 0 | F32: =F79 -> 0 | G32: =G79 -> 0 | H32: =H79 -> 0 | I32: =I79 -> 0 | J32: =J79 -> 0 | ... M32: =M79 -> 0 | N32: =SUM(C32:M32) -> 0
A33: =CONCATENATE('SaaS-Hosting'!A7," Subtotal") -> Hosting Costs Subtotal | C33: 0 | D33: =D120 -> 0 | E33: =E120 -> 0 | F33: =F120 -> 0 | G33: =G120 -> 0 | H33: =H120 -> 0 | I33: =I120 -> 0 | J33: =J120 -> 0 | K33: =K120 -> 0 | ... M33: =M120 -> 0 | N33: =SUM(C33:M33) -> 0
A34: =CONCATENATE(Services!A7," Subtotal") -> Services Costs Subtotal | C34: =C131 -> 0 | N34: =SUM(C34:M34) -> 0
A35: =CONCATENATE(Training!A3, " Subtotal") -> Training Costs Subtotal | C35: =Training!D25 -> 0 | N35: =SUM(C35:M35) -> 0
A36: Total Solution Cost | C36: =SUM(C32:C35) -> 0 | D36: =SUM(D32:D35) -> 0 | E36: =SUM(E32:E35) -> 0 | F36: =SUM(F32:F35) -> 0 | G36: =SUM(G32:G35) -> 0 | H36: =SUM(H32:H35) -> 0 | I36: =SUM(I32:I35) -> 0 | J36: =SUM(J32:J35) -> 0 | ... N36: =SUM(N32:N35) -> 0
A37: =CONCATENATE('Optional Products'!A8," Subtotal") -> Optional Products Subtotal | C37: ='Optional Products'!F25 -> 0 | D37: ='Optional Products'!G25 -> 0 | E37: ='Optional Products'!H25 -> 0 | F37: ='Optional Products'!I25 -> 0 | G37: ='Optional Products'!J25 -> 0 | H37: ='Optional Products'!K25 -> 0 | I37: ='Optional Products'!L25 -> 0 | J37: ='Optional Products'!M25 -> 0 | ... M37: ='Optional Products'!P25 -> 0 | N37: =SUM(C37:M37) -> 0
A38: =CONCATENATE('Optional Services'!A7," Subtotal") -> Optional Services Costs Subtotal | C38: ='Optional Services'!G24 -> 0 | N38: =SUM(C38:M38) -> 0
A39: Total Solution Cost with Options | C39: =SUM(C36:C38) -> 0 | D39: =SUM(D36:D38) -> 0 | E39: =SUM(E36:E38) -> 0 | F39: =SUM(F36:F38) -> 0 | G39: =SUM(G36:G38) -> 0 | H39: =SUM(H36:H38) -> 0 | I39: =SUM(I36:I38) -> 0 | J39: =SUM(J36:J38) -> 0 | ... N39: =SUM(N36:N38) -> 0
A41: =CONCATENATE(Licenses!A8," by Software") -> Licenses and Ongoing Maintenance Costs by Software | C41: One Time | D41: Year 1 | E41: Year 2 | F41: Year 3 | G41: Year 4 | H41: Year 5 | I41: Year 6 | J41: Year 7 | K41: Year 8 | L41: Year 9 | M41: Year 10 | N41: Grand Total
A42: =IF(Summary!$C6<>"",Summary!$C6,"") -> Classification | C42: =SUMIF(Licenses!$B$9:$B$38,Summary!$A42,Licenses!F$9:F$37) -> 0 | D42: =SUMIF(Licenses!$B$9:$B$38,Summary!$A42,Licenses!G$9:G$37) -> 0 | E42: =SUMIF(Licenses!$B$9:$B$38,Summary!$A42,Licenses!H$9:H$37) -> 0 | F42: =SUMIF(Licenses!$B$9:$B$38,Summary!$A42,Licenses!I$9:I$37) -> 0 | G42: =SUMIF(Licenses!$B$9:$B$38,Summary!$A42,Licenses!J$9:J$37) -> 0 | H42: =SUMIF(Licenses!$B$9:$B$38,Summary!$A42,Licenses!K$9:K$37) -> 0 | I42: =SUMIF(Licenses!$B$9:$B$38,Summary!$A42,Licenses!L$9:L$37) -> 0 | J42: =SUMIF(Licenses!$B$9:$B$38,Summary!$A42,Licenses!M$9:M$37) -> 0 | ... M42: =SUMIF(Licenses!$B$9:$B$38,Summary!$A42,Licenses!P$9:P$37) -> 0 | N42: =SUM(C42:M42) -> 0
A43: =IF(Summary!$C7<>"",Summary!$C7,"") -> Compensation | C43: =SUMIF(Licenses!$B$9:$B$38,Summary!$A43,Licenses!F$9:F$37) -> 0 | D43: =SUMIF(Licenses!$B$9:$B$38,Summary!$A43,Licenses!G$9:G$37) -> 0 | E43: =SUMIF(Licenses!$B$9:$B$38,Summary!$A43,Licenses!H$9:H$37) -> 0 | F43: =SUMIF(Licenses!$B$9:$B$38,Summary!$A43,Licenses!I$9:I$37) -> 0 | G43: =SUMIF(Licenses!$B$9:$B$38,Summary!$A43,Licenses!J$9:J$37) -> 0 | H43: =SUMIF(Licenses!$B$9:$B$38,Summary!$A43,Licenses!K$9:K$37) -> 0 | I43: =SUMIF(Licenses!$B$9:$B$38,Summary!$A43,Licenses!L$9:L$37) -> 0 | J43: =SUMIF(Licenses!$B$9:$B$38,Summary!$A43,Licenses!M$9:M$37) -> 0 | ... M43: =SUMIF(Licenses!$B$9:$B$38,Summary!$A43,Licenses!P$9:P$37) -> 0 | N43: =SUM(C43:M43) -> 0
A44: =IF(Summary!$C8<>"",Summary!$C8,"") -> Recruitment | C44: =SUMIF(Licenses!$B$9:$B$38,Summary!$A44,Licenses!F$9:F$37) -> 0 | D44: =SUMIF(Licenses!$B$9:$B$38,Summary!$A44,Licenses!G$9:G$37) -> 0 | E44: =SUMIF(Licenses!$B$9:$B$38,Summary!$A44,Licenses!H$9:H$37) -> 0 | F44: =SUMIF(Licenses!$B$9:$B$38,Summary!$A44,Licenses!I$9:I$37) -> 0 | G44: =SUMIF(Licenses!$B$9:$B$38,Summary!$A44,Licenses!J$9:J$37) -> 0 | H44: =SUMIF(Licenses!$B$9:$B$38,Summary!$A44,Licenses!K$9:K$37) -> 0 | I44: =SUMIF(Licenses!$B$9:$B$38,Summary!$A44,Licenses!L$9:L$37) -> 0 | J44: =SUMIF(Licenses!$B$9:$B$38,Summary!$A44,Licenses!M$9:M$37) -> 0 | ... M44: =SUMIF(Licenses!$B$9:$B$38,Summary!$A44,Licenses!P$9:P$37) -> 0 | N44: =SUM(C44:M44) -> 0
A45: =IF(Summary!$C9<>"",Summary!$C9,"") -> Onboarding | C45: =SUMIF(Licenses!$B$9:$B$38,Summary!$A45,Licenses!F$9:F$37) -> 0 | D45: =SUMIF(Licenses!$B$9:$B$38,Summary!$A45,Licenses!G$9:G$37) -> 0 | E45: =SUMIF(Licenses!$B$9:$B$38,Summary!$A45,Licenses!H$9:H$37) -> 0 | F45: =SUMIF(Licenses!$B$9:$B$38,Summary!$A45,Licenses!I$9:I$37) -> 0 | G45: =SUMIF(Licenses!$B$9:$B$38,Summary!$A45,Licenses!J$9:J$37) -> 0 | H45: =SUMIF(Licenses!$B$9:$B$38,Summary!$A45,Licenses!K$9:K$37) -> 0 | I45: =SUMIF(Licenses!$B$9:$B$38,Summary!$A45,Licenses!L$9:L$37) -> 0 | J45: =SUMIF(Licenses!$B$9:$B$38,Summary!$A45,Licenses!M$9:M$37) -> 0 | ... M45: =SUMIF(Licenses!$B$9:$B$38,Summary!$A45,Licenses!P$9:P$37) -> 0 | N45: =SUM(C45:M45) -> 0
...

Sheet Licenses
A1: =CONCATENATE(Summary!$A$3," ", Summary!$B$3) -> Proposer Name: <Enter Proposer Name> | Q1: =CONCATENATE(Summary!$A$4," ",Summary!$B$4) -> Solution Name: <Enter Solution Description>
A3: Instructions:
A4: Group by Vendor and Software
A5: Description: Enter name of Module for software listed or description. If 'Other' entered for software, enter name of product or describe product.
A6: Cost/License: If Unlimited Licenses, enter "Unlim" in "# of Licenses" and enter total cost in "Cost/License"
A8: Licenses and Ongoing Maintenance Costs
A9: Vendor | B9: Software | C9: Description | D9: # of Licenses | E9: Cost/ License | F9: One Time Cost | G9: Year 1 | H9: Year 2 | I9: Year 3 | J9: Year 4 | K9: Year 5 | L9: Year 6 | M9: Year 7 | N9: Year 8 | O9: Year 9 | P9: Year 10 | Q9: Grand Total
F10: =IF(D10="Unlim",E10,D10*E10) -> 0 | Q10: =SUM(F10:P10) -> 0
F11: =IF(D11="Unlim",E11,D11*E11) -> 0 | Q11: =SUM(F11:P11) -> 0
F12: =IF(D12="Unlim",E12,D12*E12) -> 0 | Q12: =SUM(F12:P12) -> 0
F13: =IF(D13="Unlim",E13,D13*E13) -> 0 | Q13: =SUM(F13:P13) -> 0
F14: =IF(D14="Unlim",E14,D14*E14) -> 0 | Q14: =SUM(F14:P14) -> 0
F15: =IF(D15="Unlim",E15,D15*E15) -> 0 | Q15: =SUM(F15:P15) -> 0
F16: =IF(D16="Unlim",E16,D16*E16) -> 0 | Q16: =SUM(F16:P16) -> 0
F17: =IF(D17="Unlim",E17,D17*E17) -> 0 | Q17: =SUM(F17:P17) -> 0
F18: =IF(D18="Unlim",E18,D18*E18) -> 0 | Q18: =SUM(F18:P18) -> 0
F19: =IF(D19="Unlim",E19,D19*E19) -> 0 | Q19: =SUM(F19:P19) -> 0
F20: =IF(D20="Unlim",E20,D20*E20) -> 0 | Q20: =SUM(F20:P20) -> 0
F21: =IF(D21="Unlim",E21,D21*E21) -> 0 | Q21: =SUM(F21:P21) -> 0
... F37: =IF(D37="Unlim",E37,D37*E37) -> 0 | Q37: =SUM(F37:P37) -> 0
A38: =CONCATENATE("Total ",A8) -> Total Licenses and Ongoing Maintenance Costs | F38: =SUM(F10:F37) -> 0 | G38: =SUM(G10:G37) -> 0 | H38: =SUM(H10:H37) -> 0 | I38: =SUM(I10:I37) -> 0 | J38: =SUM(J10:J37) -> 0 | K38: =SUM(K10:K37) -> 0 | L38: =SUM(L10:L37) -> 0 | M38: =SUM(M10:M37) -> 0 | ... Q38: =SUM(Q10:Q37) -> 0
E39: Check to Summary Tab -> | F39: =IF(F38=Summary!C79,"OK","ERROR") -> OK | G39: =IF(G38=Summary!D79,"OK","ERROR") -> OK | H39: =IF(H38=Summary!E79,"OK","ERROR") -> OK | I39: =IF(I38=Summary!F79,"OK","ERROR") -> OK | J39: =IF(J38=Summary!G79,"OK","ERROR") -> OK | K39: =IF(K38=Summary!H79,"OK","ERROR") -> OK | L39: =IF(L38=Summary!I79,"OK","ERROR") -> OK | M39: =IF(M38=Summary!J79,"OK","ERROR") -> OK | ... Q39: =IF(Q38=Summary!N79,"OK","ERROR") -> OK
A40: Notes and Assumptions

Sheet Services
A1: =CONCATENATE(Summary!$A$3," ", Summary!$B$3) -> Proposer Name: <Enter Proposer Name> | G1: =CONCATENATE(Summary!$A$4," ",Summary!$B$4) -> Solution Name: <Enter Solution Description>
A3: Instructions:
A4: Group by Vendor and Service
A5: Flat Rate Proposals: If Flat Rate for service, enter "Flat" in "# of Hours" and enter total cost in "Rate/Hour"
A7: Services Costs
A8: Vendor | B8: Service | C8: Software | D8: Description | E8: # of Hours | F8: Rate/ Hour | G8: One Time Cost
G9: =IF(E9="Flat",F9,E9*F9) -> 0
G10: =IF(E10="Flat",F10,E10*F10) -> 0
G11: =IF(E11="Flat",F11,E11*F11) -> 0
G12: =IF(E12="Flat",F12,E12*F12) -> 0
G13: =IF(E13="Flat",F13,E13*F13) -> 0
G14: =IF(E14="Flat",F14,E14*F14) -> 0
G15: =IF(E15="Flat",F15,E15*F15) -> 0
G16: =IF(E16="Flat",F16,E16*F16) -> 0
G17: =IF(E17="Flat",F17,E17*F17) -> 0
G18: =IF(E18="Flat",F18,E18*F18) -> 0
G19: =IF(E19="Flat",F19,E19*F19) -> 0
G20: =IF(E20="Flat",F20,E20*F20) -> 0
... G70: =IF(E70="Flat",F70,E70*F70) -> 0
A71: =CONCATENATE("Total ",A7) -> Total Services Costs | G71: =SUM(G9:G70) -> 0
F72: Check to Summary Tab -> | G72: =IF(G71=Summary!C131,"OK","ERROR") -> OK
A74: Notes and Assumptions

Sheet SaaS-Hosting
A1: =CONCATENATE(Summary!$A$3," ", Summary!$B$3) -> Proposer Name: <Enter Proposer Name> | N1: =CONCATENATE(Summary!$A$4," ",Summary!$B$4) -> Solution Name: <Enter Solution Description>
A3: Instructions:
A4: Group by Vendor and Software
A5: Description: Enter name of Module for software listed or description. If 'Other' entered for software, enter name of product or describe product.
A7: Hosting Costs
A8: Vendor | B8: Software | C8: Description | D8: Year 1 | E8: Year 2 | F8: Year 3 | G8: Year 4 | H8: Year 5 | I8: Year 6 | J8: Year 7 | K8: Year 8 | L8: Year 9 | M8: Year 10 | N8: Grand Total
N9: =SUM(D9:M9) -> 0
N10: =SUM(D10:M10) -> 0
N11: =SUM(D11:M11) -> 0
N12: =SUM(D12:M12) -> 0
N13: =SUM(D13:M13) -> 0
N14: =SUM(D14:M14) -> 0
N15: =SUM(D15:M15) -> 0
N16: =SUM(D16:M16) -> 0
N17: =SUM(D17:M17) -> 0
N18: =SUM(D18:M18) -> 0
N19: =SUM(D19:M19) -> 0
N20: =SUM(D20:M20) -> 0
... N36: =SUM(D36:M36) -> 0
A37: =CONCATENATE("Total ",A7) -> Total Hosting Costs | D37: =SUM(D9:D36) -> 0 | E37: =SUM(E9:E36) -> 0 | F37: =SUM(F9:F36) -> 0 | G37: =SUM(G9:G36) -> 0 | H37: =SUM(H9:H36) -> 0 | I37: =SUM(I9:I36) -> 0 | J37: =SUM(J9:J36) -> 0 | K37: =SUM(K9:K36) -> 0 | ... N37: =SUM(N9:N36) -> 0
D38: =IF(D37=Summary!D120,"OK","ERROR") -> OK | E38: =IF(E37=Summary!E120,"OK","ERROR") -> OK | F38: =IF(F37=Summary!F120,"OK","ERROR") -> OK | G38: =IF(G37=Summary!G120,"OK","ERROR") -> OK | H38: =IF(H37=Summary!H120,"OK","ERROR") -> OK | I38: =IF(I37=Summary!I120,"OK","ERROR") -> OK | J38: =IF(J37=Summary!J120,"OK","ERROR") -> OK | K38: =IF(K37=Summary!K120,"OK","ERROR") -> OK | ... N38: =IF(N37=Summary!N120,"OK","ERROR") -> OK
A40: Notes and Assumptions

Sheet Training
A1: =Summary!B3 -> <Enter Proposer Name> | E1: =Summary!$B$4 -> <Enter Solution Description>
A3: Training Costs
A4: Training Description | B4: # of Users | C4: Cost Per Training | D4: Total | E4: Notes / Assumptions
A5: Historical data Integration workshops: | D5: =B5*C5 -> 0
A6: Governance workshops: | D6: =+C6*B6 -> 0
A7: Reporting workshops | D7: =+C7*B7 -> 0
A8: User training | D8: =+C8*B8 -> 0
A9: Training materials | D9: =+C9*B9 -> 0
A10: Other (please specify training) | D10: =+C10*B10 -> 0
D11: =+C11*B11 -> 0
D12: =+C12*B12 -> 0
D13: =+C13*B13 -> 0
D14: =+C14*B14 -> 0
D15: =+C15*B15 -> 0
D16: =+C16*B16 -> 0
D17: =+C17*B17 -> 0
D18: =+C18*B18 -> 0
D19: =+C19*B19 -> 0
D20: =+C20*B20 -> 0
D21: =+C21*B21 -> 0
D22: =+C22*B22 -> 0
... D24: =+C24*B24 -> 0
A25: =CONCATENATE("Total ",A3) -> Total Training Costs | B25: =SUM(B5:B24) -> 0 | C25: =SUM(C5:C24) -> 0 | D25: =SUM(D5:D24) -> 0
A27: Notes and Assumptions

Sheet Optional Products
A1: =CONCATENATE(Summary!$A$3," ", Summary!$B$3) -> Proposer Name: <Enter Proposer Name> | Q1: =CONCATENATE(Summary!$A$4," ",Summary!$B$4) -> Solution Name: <Enter Solution Description>
A3: Instructions:
A4: Group by Software
A5: Description: Enter name of Module for software listed or description. If 'Other' entered for software, enter name of product or describe product.
A6: Cost/License: If Unlimited Licenses, enter "Unlim" in "# of Licenses" and enter total cost in "Cost/License"
A8: Optional Products
A9: Vendor | B9: Software | C9: Description | D9: # of Licenses | E9: Cost/ License | F9: One Time Cost | G9: Year 1 | H9: Year 2 | I9: Year 3 | J9: Year 4 | K9: Year 5 | L9: Year 6 | M9: Year 7 | N9: Year 8 | O9: Year 9 | P9: Year 10 | Q9: Grand Total
F10: =IF(D10="Unlim",E10,D10*E10) -> 0 | Q10: =SUM(F10:P10) -> 0
F11: =IF(D11="Unlim",E11,D11*E11) -> 0 | Q11: =SUM(F11:P11) -> 0
F12: =IF(D12="Unlim",E12,D12*E12) -> 0 | Q12: =SUM(F12:P12) -> 0
F13: =IF(D13="Unlim",E13,D13*E13) -> 0 | Q13: =SUM(F13:P13) -> 0
F14: =IF(D14="Unlim",E14,D14*E14) -> 0 | Q14: =SUM(F14:P14) -> 0
F15: =IF(D15="Unlim",E15,D15*E15) -> 0 | Q15: =SUM(F15:P15) -> 0
F16: =IF(D16="Unlim",E16,D16*E16) -> 0 | Q16: =SUM(F16:P16) -> 0
F17: =IF(D17="Unlim",E17,D17*E17) -> 0 | Q17: =SUM(F17:P17) -> 0
F18: =IF(D18="Unlim",E18,D18*E18) -> 0 | Q18: =SUM(F18:P18) -> 0
F19: =IF(D19="Unlim",E19,D19*E19) -> 0 | Q19: =SUM(F19:P19) -> 0
F20: =IF(D20="Unlim",E20,D20*E20) -> 0 | Q20: =SUM(F20:P20) -> 0
F21: =IF(D21="Unlim",E21,D21*E21) -> 0 | Q21: =SUM(F21:P21) -> 0
... F24: =IF(D24="Unlim",E24,D24*E24) -> 0 | Q24: =SUM(F24:P24) -> 0
A25: =CONCATENATE("Total ",A8) -> Total Optional Products | F25: =SUM(F10:F24) -> 0 | G25: =SUM(G10:G24) -> 0 | H25: =SUM(H10:H24) -> 0 | I25: =SUM(I10:I24) -> 0 | J25: =SUM(J10:J24) -> 0 | K25: =SUM(K10:K24) -> 0 | L25: =SUM(L10:L24) -> 0 | M25: =SUM(M10:M24) -> 0 | ... Q25: =SUM(Q10:Q24) -> 0
A28: Notes and Assumptions

Sheet Optional Services
A1: =CONCATENATE(Summary!$A$3," ", Summary!$B$3) -> Proposer Name: <Enter Proposer Name> | G1: =CONCATENATE(Summary!$A$4," ",Summary!$B$4) -> Solution Name: <Enter Solution Description>
A3: Instructions:
A4: Group by Vendor and Service
A5: Flat Rate Proposals: If Flat Rate for service, enter "Flat" in "# of Hours" and enter total cost in "Rate/Hour"
A7: Optional Services Costs
A8: Vendor | B8: Service | C8: Software | D8: Description | E8: # of Hours | F8: Rate/ Hour | G8: One Time Cost
G9: =IF(E9="Flat",F9,E9*F9) -> 0
G10: =IF(E10="Flat",F10,E10*F10) -> 0
G11: =IF(E11="Flat",F11,E11*F11) -> 0
G12: =IF(E12="Flat",F12,E12*F12) -> 0
G13: =IF(E13="Flat",F13,E13*F13) -> 0
G14: =IF(E14="Flat",F14,E14*F14) -> 0
G15: =IF(E15="Flat",F15,E15*F15) -> 0
G16: =IF(E16="Flat",F16,E16*F16) -> 0
G17: =IF(E17="Flat",F17,E17*F17) -> 0
G18: =IF(E18="Flat",F18,E18*F18) -> 0
G19: =IF(E19="Flat",F19,E19*F19) -> 0
G20: =IF(E20="Flat",F20,E20*F20) -> 0
... G23: =IF(E23="Flat",F23,E23*F23) -> 0
A24: =CONCATENATE("Total ",A7) -> Total Optional Services Costs | G24: =SUM(G9:G23) -> 0
A27: Notes and Assumptions

Sheet Modules
A1: Classification
A2: Compensation
A3: Recruitment
A4: Onboarding
A5: Offboarding
A6: Core HR
A7: Learning Management
A8: Time and Leave Administration
A9: Benefits
A10: Payroll
A11: PHCM-Reporting Analytics
A12: Data Change Request Management
... A36: Forms
