Workbook

Sheet Lookup
B1: Utilization in CY 2024 (Yes or No)
B2: Yes
B3: No
B6: This table has the error messages for WS 2 and 2a:
B7: UTIL is "Yes", LAA is >= Medicare Fee | C7: Valid
B8: UTIL is "No", LAA>Fee | C8: Column has been reported as "No Utilization", however an Allowed Amount has been provided. Please check Utilization.
B9: UTIL is "Yes", LAA is < Medicare Fee | C9: Please complete Worksheet 2a for this CPT Code - May be out of compliance
B10: UTIL is "No", LAA<Fee | C10: Column has been reported as "No Utilization", however an Allowed Amount has been provided. Please check Utilization.
B11: Message when UTIL is blank and LAA non-blank | C11: Please report if there was utilization in CY 2024.
B12: UTIL is "Yes", but no LAA provided | C12: Please provide Lowest Allowed Amount.
B13: Column C has no dollar amount | C13: No Medicare Fee Available
B14: For future year (2024) - Contracted Fee is >= Medicare Fee | C14: Valid - Contracted Fee is >= Medicare Fee
B15: For future year (2024) - Contracted Fee is < Medicare Fee | C15: May be out of compliance
B16: WS 2a - col D blank, but Col E>0 | C16: Please enter an Allowed amount
B18: Error Messages in Demographic Worksheet
B19: ERROR, Membership reported for Delaware Residents must be less than Total (Delaware Residents is a subset of the Total market)
B21: This table has the Market Segment possible selections
B22: Individual Market
B23: Small Group Market
B24: Large Group Market
B25: Student Health Plan Market
B29: Please confirm the the market segment specified is consistent with Worksheets 2, 2a, 3, 3a, and 4.
B31: Error Messages in Worksheet 3a and 4:
B32: ERROR, attributed data must be a subset (lower) than total data
B33: ERROR, Professional primary care must be less than Total professional
B34: ERROR, CY 2023 (CY 2023 / CY2022) Trend doesn't match Worksheet 3a
... B37: ERROR, CY 2026 (CY 2026 / CY2025) Trend doesn't match Worksheet 3a
B40: Trend Consistency Check Tolerance | C40: 0.001
B42: This table has the error meessages for above threshold in the Overview WS, wrt WS 3
A43: Year | B43: Check Compliance of CY % of Medical is below thresholds
A44: 2021 | B44: No Check | C44: ="CY "&A44&" % of Medical below threshold" -> CY 2021 % of Medical below threshold | D44: ="CY "&A44&" is compliant" -> CY 2021 is compliant
A45: 2022 | B45: No Check | C45: ="CY "&A45&" % of Medical below threshold" -> CY 2022 % of Medical below threshold | D45: ="CY "&A45&" is compliant" -> CY 2022 is compliant
A46: 2023 | B46: 0.085 | C46: ="CY "&A46&" % of Medical below threshold" -> CY 2023 % of Medical below threshold | D46: ="CY "&A46&" is compliant" -> CY 2023 is compliant
A47: 2024 | B47: 0.1 | C47: ="CY "&A47&" % of Medical below threshold" -> CY 2024 % of Medical below threshold | D47: ="CY "&A47&" is compliant" -> CY 2024 is compliant
A48: 2025 | B48: 0.115 | C48: ="CY "&A48&" % of Medical below threshold" -> CY 2025 % of Medical below threshold | D48: ="CY "&A48&" is compliant" -> CY 2025 is compliant
A49: 2026 | B49: 0.115 | C49: ="CY "&A49&" % of Medical below threshold" -> CY 2026 % of Medical below threshold | D49: ="CY "&A49&" is compliant" -> CY 2026 is compliant
B51: This table has the thresholds for price growth cap and also the associated error messages
A52: Year | B52: IP Hos Price Trend Check | C52: OP Hos Price Trend Check | D52: Other Medical Price Trend Check | E52: Error messages | F52: No error messages
A53: 2021 | B53: No cap | C53: No cap | D53: No cap | E53: ="CY "&A53&" Price growth is above threshold" -> CY 2021 Price growth is above threshold | F53: ="CY "&A53&" is compliant" -> CY 2021 is compliant
A54: 2022 | B54: No cap | C54: No cap | D54: No cap | E54: ="CY "&A54&" Price growth is above threshold" -> CY 2022 Price growth is above threshold | F54: ="CY "&A54&" is compliant" -> CY 2022 is compliant
...

Sheet 1. Overview
A1: Delaware Affordability Standards Data Request Template
A2: Overview
A3: Updated: 3/14/2025
A19: Health Insurance Carrier Name:
A20: Carrier Lead Contact:
A21: Market Segment: | C21: =IF(ISBLANK($B$21),"",IF(AND(B21='3a. PC % Spend All Members'!C1,B21='3. PC %Spend DE Attributed Memb'!C1,B21='4. NonProfessional Price Growth'!C1,B21='2. Medicare Parity FFS'!B1,B21='2a. Medicare Parity FFS UP'!B1),"",Lookup!$B$29))
A25: This dashboard shows summary information and potential areas where data may have been provided in error.
A27: Worksheet 2 and 2a: Issues
A28: Issue | B28: 2024 Facility Price | C28: 2024 Non-Facility Price
A29: Lowest Allowed Amount Less Than Medicare Fee | B29: =COUNTIF('2. Medicare Parity FFS'!$F$4:$F$311,Lookup!$C$9) -> 0 | C29: =COUNTIF('2. Medicare Parity FFS'!$J$4:$J$311,Lookup!$C$9) -> 0
A30: Total Potential Underpayment | B30: ='2a. Medicare Parity FFS UP'!F2 -> 0 | C30: ='2a. Medicare Parity FFS UP'!K2 -> 0
A34: Worksheet 3: Primary Care % of Medical
A35: Year | B35: Primary Care % of Medical (from Worksheet 3) | C35: Check Compliance: % of Medical must be above threshold | D35: Worksheet 3 Check
A36: 2022 | B36: ='3. PC %Spend DE Attributed Memb'!$F$36 -> 0 | C36: =Lookup!B45 -> No Check | D36: =IF(ISNUMBER(C36),IF(B36<C36,Lookup!C45,Lookup!D45),C36) -> No Check
A37: 2023 | B37: ='3. PC %Spend DE Attributed Memb'!$K$36 -> 0 | C37: =Lookup!B46 -> 0.085 | D37: =IF(ISNUMBER(C37),IF(B37<C37,Lookup!C46,Lookup!D46),C37) -> CY 2023 % of Medical below threshold
A38: 2024 | B38: ='3. PC %Spend DE Attributed Memb'!$S$36 -> 0 | C38: =Lookup!B47 -> 0.1 | D38: =IF(ISNUMBER(C38),IF(B38<C38,Lookup!C47,Lookup!D47),C38) -> CY 2024 % of Medical below threshold
A39: 2025 | B39: ='3. PC %Spend DE Attributed Memb'!$D$73 -> 0 | C39: =Lookup!B48 -> 0.115 | D39: =IF(ISNUMBER(C39),IF(B39<C39,Lookup!C48,Lookup!D48),C39) -> CY 2025 % of Medical below threshold
A40: 2026 | B40: ='3. PC %Spend DE Attributed Memb'!$I$73 -> 0 | C40: =Lookup!B49 -> 0.115 | D40: =IF(ISNUMBER(C40),IF(B40<C40,Lookup!C49,Lookup!D49),C40) -> CY 2026 % of Medical below threshold
A44: Worksheet 3a: # of Errors
A45: 2022 | B45: =COUNTIF('3a. PC % Spend All Members'!$H$7:$H$34,Lookup!$B$32) -> 0
A46: 2023 | B46: =COUNTIF('3a. PC % Spend All Members'!$P$7:$P$34,Lookup!$B$32) -> 0
A47: 2024 | B47: =COUNTIF('3a. PC % Spend All Members'!$Z$7:$Z$34,Lookup!$B$32) -> 0
A48: 2025 | B48: =COUNTIF('3a. PC % Spend All Members'!$H$44:$H$71,Lookup!$B$32) -> 0
A49: 2026 | B49: =COUNTIF('3a. PC % Spend All Members'!$P$44:$P$71,Lookup!$B$32) -> 0
A53: Worksheet 4: # of Errors
A54: CY 2023 (CY 2023 / CY2022) | B54: =COUNTIF('4. NonProfessional Price Growth'!$M$7:$M$30,Lookup!B34) -> 0
A55: CY 2024 (CY 2024 / CY2023) | B55: =COUNTIF('4. NonProfessional Price Growth'!$S$7:$S$30,Lookup!B35) -> 0
A56: CY 2025 (CY 2025 / CY2024) | B56: =COUNTIF('4. NonProfessional Price Growth'!$G$37:$G$60,Lookup!B36) -> 0
A57: CY 2026 (CY 2026 / CY2025) | B57: =COUNTIF('4. NonProfessional Price Growth'!$M$37:$M$60,Lookup!B37) -> 0
A60: History of Hospital IP, OP, Other price trend
A61: Year | B61: IP Hos Price Trend (from Worksheet 4) | C61: OP Hos Price Trend (from Worksheet 4) | D61: Other Medical Price Trend (from Worksheet 4) | E61: IP price growth threshold | F61: OP price growth threshold | G61: Other Medical price growth threshold | H61: IP Price Growth Check | I61: OP Price Growth Check | J61: Other Medical Price Growth Check
A62: 2022 | B62: ='4. NonProfessional Price Growth'!C7 -> 0 | C62: ='4. NonProfessional Price Growth'!C8 -> 0 | D62: ='4. NonProfessional Price Growth'!C10 -> 0 | E62: =Lookup!B53 -> No cap | F62: =Lookup!C53 -> No cap | G62: =Lookup!D53 -> No cap | H62: =IF(ISNUMBER(G62),IF(E62<B62,Lookup!E53,Lookup!F53),G62) -> No cap | I62: =IF(ISNUMBER(H62),IF(F62<C62,Lookup!E53,Lookup!F53),H62) -> No cap | J62: =IF(ISNUMBER(I62),IF(F62<D62,Lookup!E53,Lookup!F53),I62) -> No cap
A63: 2023 | B63: ='4. NonProfessional Price Growth'!I7 -> 0 | C63: ='4. NonProfessional Price Growth'!I8 -> 0 | D63: ='4. NonProfessional Price Growth'!I10 -> 0 | E63: =Lookup!B55 -> 0.055 | F63: =Lookup!C55 -> 0.055 | G63: =Lookup!D55 -> 0.055 | H63: =IF(ISNUMBER(G63),IF(E63<B63,Lookup!E55,Lookup!F55),G63) -> CY 2023 is compliant | I63: =IF(ISNUMBER(H63),IF(F63<C63,Lookup!E55,Lookup!F55),H63) -> CY 2023 is compliant | J63: =IF(ISNUMBER(I63),IF(F63<D63,Lookup!E55,Lookup!F55),I63) -> CY 2023 is compliant
A64: 2024 | B64: ='4. NonProfessional Price Growth'!O7 -> 0 | C64: ='4. NonProfessional Price Growth'!O8 -> 0 | D64: ='4. NonProfessional Price Growth'!O10 -> 0 | E64: =Lookup!B56 -> 0.0576 | F64: =Lookup!C56 -> 0.0576 | G64: =Lookup!D56 -> 0.0576 | H64: =IF(ISNUMBER(G64),IF(E64<B64,Lookup!E56,Lookup!F56),G64) -> CY 2024 is compliant | I64: =IF(ISNUMBER(H64),IF(F64<C64,Lookup!E55,Lookup!F55),H64) -> CY 2024 is compliant | J64: =IF(ISNUMBER(I64),IF(F64<D64,Lookup!E55,Lookup!F55),I64) -> CY 2024 is compliant
A65: 2025 | B65: ='4. NonProfessional Price Growth'!C37 -> 0 | C65: ='4. NonProfessional Price Growth'!C38 -> 0 | D65: ='4. NonProfessional Price Growth'!C40 -> 0 | E65: =Lookup!B57 -> 0.0635 | F65: =Lookup!C57 -> 0.0635 | G65: =Lookup!D57 -> 0.0635 | H65: =IF(ISNUMBER(G65),IF(E65<B65,Lookup!E57,Lookup!F57),G65) -> CY 2025 is compliant | I65: =IF(ISNUMBER(H65),IF(F65<C65,Lookup!E56,Lookup!F56),H65) -> CY 2025 is compliant | J65: =IF(ISNUMBER(I65),IF(F65<D65,Lookup!E56,Lookup!F56),I65) -> CY 2025 is compliant
A66: 2026 | B66: ='4. NonProfessional Price Growth'!I37 -> 0 | C66: ='4. NonProfessional Price Growth'!I38 -> 0 | D66: ='4. NonProfessional Price Growth'!I40 -> 0 | E66: =Lookup!B58 -> 0.055 | F66: =Lookup!C58 -> 0.055 | G66: =Lookup!D58 -> 0.055 | H66: =IF(ISNUMBER(G66),IF(E66<B66,Lookup!E58,Lookup!F58),G66) -> CY 2026 is compliant | I66: =IF(ISNUMBER(H66),IF(F66<C66,Lookup!E57,Lookup!F57),H66) -> CY 2026 is compliant | J66: =IF(ISNUMBER(I66),IF(F66<D66,Lookup!E57,Lookup!F57),I66) -> CY 2026 is compliant

Sheet 2. Medicare Parity FFS
A1: Please Indicate Market Segment: | C1: 2024 | L1: 2025
C2: Facility Price | G2: Non-Facility Price | L2: Facility Price | O2: Non-Facility Price
A3: CPT Code | B3: Description | C3: Medicare Fee for Delaware (Non-Facility) | D3: Utilization during CY 2024 (Yes or No) | E3: Lowest Allowed Amount | F3: Check (If Lower than Medicare) | G3: Medicare Fee for Delaware (Non-Facility) | H3: Utilization during CY 2024 (Yes or No) | I3: Lowest Allowed Amount | J3: Check (If Lower than Medicare) | L3: Medicare Fee for Delaware (Non-Facility) | M3: Lowest Contracted Fee | N3: Check (If Lower than Medicare) | O3: Medicare Fee for Delaware (Non-Facility) | P3: Lowest Contracted Fee | Q3: Check (If Lower than Medicare)
A4: 10040 | B4: Acne surgery | C4: 115.95 | F4: =IF(ISNUMBER(C4),IF(OR(AND(ISBLANK(D4),ISBLANK(E4)),AND(D4="No",ISBLANK(E4))),"",IF(AND(ISBLANK(D4),ISNUMBER(E4)),Lookup!$C$11,IF(AND(D4="Yes",ISBLANK(E4)),Lookup!$C$12,IF(AND(D4="Yes",E4>=C4),Lookup!$C$7,IF(AND(D4="No",E4>=C4),Lookup!$C$8,IF(AND(D4="Yes",E4<C4),Lookup!$C$9,IF(AND(D4="No",E4<C4),Lookup!$C$10,"UnknownCase"))))))),Lookup!$C$13) | G4: 115.95 | J4: =IF(ISNUMBER(G4),IF(OR(AND(ISBLANK(H4),ISBLANK(I4)),AND(H4="No",ISBLANK(I4))),"",IF(AND(ISBLANK(H4),ISNUMBER(I4)),Lookup!$C$11,IF(AND(H4="Yes",ISBLANK(I4)),Lookup!$C$12,IF(AND(H4="Yes",I4>=G4),Lookup!$C$7,IF(AND(H4="No",I4>=G4),Lookup!$C$8,IF(AND(H4="Yes",I4<G4),Lookup!$C$9,IF(AND(H4="No",I4<G4),Lookup!$C$10,"UnknownCase"))))))),Lookup!$C$13) | L4: 112.03 | N4: =IF(ISNUMBER(L4),IF(ISBLANK(M4),"",IF(M4>=L4,Lookup!$C$14,Lookup!$C$15)),Lookup!$C$13) | O4: 112.03 | Q4: =IF(ISNUMBER(O4),IF(ISBLANK(P4),"",IF(P4>=O4,Lookup!$C$14,Lookup!$C$15)),Lookup!$C$13)
A5: 10060 | B5: Drainage Of Skin Abscess Simple | C5: 126.98 | F5: =IF(ISNUMBER(C5),IF(OR(AND(ISBLANK(D5),ISBLANK(E5)),AND(D5="No",ISBLANK(E5))),"",IF(AND(ISBLANK(D5),ISNUMBER(E5)),Lookup!$C$11,IF(AND(D5="Yes",ISBLANK(E5)),Lookup!$C$12,IF(AND(D5="Yes",E5>=C5),Lookup!$C$7,IF(AND(D5="No",E5>=C5),Lookup!$C$8,IF(AND(D5="Yes",E5<C5),Lookup!$C$9,IF(AND(D5="No",E5<C5),Lookup!$C$10,"UnknownCase"))))))),Lookup!$C$13) | G5: 126.98 | J5: =IF(ISNUMBER(G5),IF(OR(AND(ISBLANK(H5),ISBLANK(I5)),AND(H5="No",ISBLANK(I5))),"",IF(AND(ISBLANK(H5),ISNUMBER(I5)),Lookup!$C$11,IF(AND(H5="Yes",ISBLANK(I5)),Lookup!$C$12,IF(AND(H5="Yes",I5>=G5),Lookup!$C$7,IF(AND(H5="No",I5>=G5),Lookup!$C$8,IF(AND(H5="Yes",I5<G5),Lookup!$C$9,IF(AND(H5="No",I5<G5),Lookup!$C$10,"UnknownCase"))))))),Lookup!$C$13) | L5: 123.71 | N5: =IF(ISNUMBER(L5),IF(ISBLANK(M5),"",IF(M5>=L5,Lookup!$C$14,Lookup!$C$15)),Lookup!$C$13) | O5: 123.71 | Q5: =IF(ISNUMBER(O5),IF(ISBLANK(P5),"",IF(P5>=O5,Lookup!$C$14,Lookup!$C$15)),Lookup!$C$13)
A6: 10061 | B6: Drainage Of Skin Abscess Complicated | C6: 214.58 | F6: =IF(ISNUMBER(C6),IF(OR(AND(ISBLANK(D6),ISBLANK(E6)),AND(D6="No",ISBLANK(E6))),"",IF(AND(ISBLANK(D6),ISNUMBER(E6)),Lookup!$C$11,IF(AND(D6="Yes",ISBLANK(E6)),Lookup!$C$12,IF(AND(D6="Yes",E6>=C6),Lookup!$C$7,IF(AND(D6="No",E6>=C6),Lookup!$C$8,IF(AND(D6="Yes",E6<C6),Lookup!$C$9,IF(AND(D6="No",E6<C6),Lookup!$C$10,"UnknownCase"))))))),Lookup!$C$13) | G6: 214.58 | J6: =IF(ISNUMBER(G6),IF(OR(AND(ISBLANK(H6),ISBLANK(I6)),AND(H6="No",ISBLANK(I6))),"",IF(AND(ISBLANK(H6),ISNUMBER(I6)),Lookup!$C$11,IF(AND(H6="Yes",ISBLANK(I6)),Lookup!$C$12,IF(AND(H6="Yes",I6>=G6),Lookup!$C$7,IF(AND(H6="No",I6>=G6),Lookup!$C$8,IF(AND(H6="Yes",I6<G6),Lookup!$C$9,IF(AND(H6="No",I6<G6),Lookup!$C$10,"UnknownCase"))))))),Lookup!$C$13) | L6: 207.57 | N6: =IF(ISNUMBER(L6),IF(ISBLANK(M6),"",IF(M6>=L6,Lookup!$C$14,Lookup!$C$15)),Lookup!$C$13) | O6: 207.57 | Q6: =IF(ISNUMBER(O6),IF(ISBLANK(P6),"",IF(P6>=O6,Lookup!$C$14,Lookup!$C$15)),Lookup!$C$13)
A7: 10080 | B7: Drainage Of Pilonidal Cyst Simple | C7: 249.38 | F7: =IF(ISNUMBER(C7),IF(OR(AND(ISBLANK(D7),ISBLANK(E7)),AND(D7="No",ISBLANK(E7))),"",IF(AND(ISBLANK(D7),ISNUMBER(E7)),Lookup!$C$11,IF(AND(D7="Yes",ISBLANK(E7)),Lookup!$C$12,IF(AND(D7="Yes",E7>=C7),Lookup!$C$7,IF(AND(D7="No",E7>=C7),Lookup!$C$8,IF(AND(D7="Yes",E7<C7),Lookup!$C$9,IF(AND(D7="No",E7<C7),Lookup!$C$10,"UnknownCase"))))))),Lookup!$C$13) | G7: 249.38 | J7: =IF(ISNUMBER(G7),IF(OR(AND(ISBLANK(H7),ISBLANK(I7)),AND(H7="No",ISBLANK(I7))),"",IF(AND(ISBLANK(H7),ISNUMBER(I7)),Lookup!$C$11,IF(AND(H7="Yes",ISBLANK(I7)),Lookup!$C$12,IF(AND(H7="Yes",I7>=G7),Lookup!$C$7,IF(AND(H7="No",I7>=G7),Lookup!$C$8,IF(AND(H7="Yes",I7<G7),Lookup!$C$9,IF(AND(H7="No",I7<G7),Lookup!$C$10,"UnknownCase"))))))),Lookup!$C$13) | L7: 236.88 | N7: =IF(ISNUMBER(L7),IF(ISBLANK(M7),"",IF(M7>=L7,Lookup!$C$14,Lookup!$C$15)),Lookup!$C$13) | O7: 236.88 | Q7: =IF(ISNUMBER(O7),IF(ISBLANK(P7),"",IF(P7>=O7,Lookup!$C$14,Lookup!$C$15)),Lookup!$C$13)
A8: 10081 | B8: Drainage of pilonidal cyst, complicated | C8: 342.51 | F8: =IF(ISNUMBER(C8),IF(OR(AND(ISBLANK(D8),ISBLANK(E8)),AND(D8="No",ISBLANK(E8))),"",IF(AND(ISBLANK(D8),ISNUMBER(E8)),Lookup!$C$11,IF(AND(D8="Yes",ISBLANK(E8)),Lookup!$C$12,IF(AND(D8="Yes",E8>=C8),Lookup!$C$7,IF(AND(D8="No",E8>=C8),Lookup!$C$8,IF(AND(D8="Yes",E8<C8),Lookup!$C$9,IF(AND(D8="No",E8<C8),Lookup!$C$10,"UnknownCase"))))))),Lookup!$C$13) | G8: 342.51 | J8: =IF(ISNUMBER(G8),IF(OR(AND(ISBLANK(H8),ISBLANK(I8)),AND(H8="No",ISBLANK(I8))),"",IF(AND(ISBLANK(H8),ISNUMBER(I8)),Lookup!$C$11,IF(AND(H8="Yes",ISBLANK(I8)),Lookup!$C$12,IF(AND(H8="Yes",I8>=G8),Lookup!$C$7,IF(AND(H8="No",I8>=G8),Lookup!$C$8,IF(AND(H8="Yes",I8<G8),Lookup!$C$9,IF(AND(H8="No",I8<G8),Lookup!$C$10,"UnknownCase"))))))),Lookup!$C$13) | L8: 326.69 | N8: =IF(ISNUMBER(L8),IF(ISBLANK(M8),"",IF(M8>=L8,Lookup!$C$14,Lookup!$C$15)),Lookup!$C$13) | O8: 326.69 | Q8: =IF(ISNUMBER(O8),IF(ISBLANK(P8),"",IF(P8>=O8,Lookup!$C$14,Lookup!$C$15)),Lookup!$C$13)
A9: 10120 | B9: Remove Foreign Body Simple | C9: 152.04 | F9: =IF(ISNUMBER(C9),IF(OR(AND(ISBLANK(D9),ISBLANK(E9)),AND(D9="No",ISBLANK(E9))),"",IF(AND(ISBLANK(D9),ISNUMBER(E9)),Lookup!$C$11,IF(AND(D9="Yes",ISBLANK(E9)),Lookup!$C$12,IF(AND(D9="Yes",E9>=C9),Lookup!$C$7,IF(AND(D9="No",E9>=C9),Lookup!$C$8,IF(AND(D9="Yes",E9<C9),Lookup!$C$9,IF(AND(D9="No",E9<C9),Lookup!$C$10,"UnknownCase"))))))),Lookup!$C$13) | G9: 152.04 | J9: =IF(ISNUMBER(G9),IF(OR(AND(ISBLANK(H9),ISBLANK(I9)),AND(H9="No",ISBLANK(I9))),"",IF(AND(ISBLANK(H9),ISNUMBER(I9)),Lookup!$C$11,IF(AND(H9="Yes",ISBLANK(I9)),Lookup!$C$12,IF(AND(H9="Yes",I9>=G9),Lookup!$C$7,IF(AND(H9="No",I9>=G9),Lookup!$C$8,IF(AND(H9="Yes",I9<G9),Lookup!$C$9,IF(AND(H9="No",I9<G9),Lookup!$C$10,"UnknownCase"))))))),Lookup!$C$13) | L9: 146.46 | N9: =IF(ISNUMBER(L9),IF(ISBLANK(M9),"",IF(M9>=L9,Lookup!$C$14,Lookup!$C$15)),Lookup!$C$13) | O9: 146.46 | Q9: =IF(ISNUMBER(O9),IF(ISBLANK(P9),"",IF(P9>=O9,Lookup!$C$14,Lookup!$C$15)),Lookup!$C$13)
A10: 10121 | B10: Remove Foreign Body Complicated | C10: 264.16 | F10: =IF(ISNUMBER(C10),IF(OR(AND(ISBLANK(D10),ISBLANK(E10)),AND(D10="No",ISBLANK(E10))),"",IF(AND(ISBLANK(D10),ISNUMBER(E10)),Lookup!$C$11,IF(AND(D10="Yes",ISBLANK(E10)),Lookup!$C$12,IF(AND(D10="Yes",E10>=C10),Lookup!$C$7,IF(AND(D10="No",E10>=C10),Lookup!$C$8,IF(AND(D10="Yes",E10<C10),Lookup!$C$9,IF(AND(D10="No",E10<C10),Lookup!$C$10,"UnknownCase"))))))),Lookup!$C$13) | G10: 264.16 | J10: =IF(ISNUMBER(G10),IF(OR(AND(ISBLANK(H10),ISBLANK(I10)),AND(H10="No",ISBLANK(I10))),"",IF(AND(ISBLANK(H10),ISNUMBER(I10)),Lookup!$C$11,IF(AND(H10="Yes",ISBLANK(I10)),Lookup!$C$12,IF(AND(H10="Yes",I10>=G10),Lookup!$C$7,IF(AND(H10="No",I10>=G10),Lookup!$C$8,IF(AND(H10="Yes",I10<G10),Lookup!$C$9,IF(AND(H10="No",I10<G10),Lookup!$C$10,"UnknownCase"))))))),Lookup!$C$13) | L10: 256.06 | N10: =IF(ISNUMBER(L10),IF(ISBLANK(M10),"",IF(M10>=L10,Lookup!$C$14,Lookup!$C$15)),Lookup!$C$13) | O10: 256.06 | Q10: =IF(ISNUMBER(O10),IF(ISBLANK(P10),"",IF(P10>=O10,Lookup!$C$14,Lookup!$C$15)),Lookup!$C$13)
A11: 10140 | B11: Drainage of hematoma/fluid | C11: 169.66 | F11: =IF(ISNUMBER(C11),IF(OR(AND(ISBLANK(D11),ISBLANK(E11)),AND(D11="No",ISBLANK(E11))),"",IF(AND(ISBLANK(D11),ISNUMBER(E11)),Lookup!$C$11,IF(AND(D11="Yes",ISBLANK(E11)),Lookup!$C$12,IF(AND(D11="Yes",E11>=C11),Lookup!$C$7,IF(AND(D11="No",E11>=C11),Lookup!$C$8,IF(AND(D11="Yes",E11<C11),Lookup!$C$9,IF(AND(D11="No",E11<C11),Lookup!$C$10,"UnknownCase"))))))),Lookup!$C$13) | G11: 169.66 | J11: =IF(ISNUMBER(G11),IF(OR(AND(ISBLANK(H11),ISBLANK(I11)),AND(H11="No",ISBLANK(I11))),"",IF(AND(ISBLANK(H11),ISNUMBER(I11)),Lookup!$C$11,IF(AND(H11="Yes",ISBLANK(I11)),Lookup!$C$12,IF(AND(H11="Yes",I11>=G11),Lookup!$C$7,IF(AND(H11="No",I11>=G11),Lookup!$C$8,IF(AND(H11="Yes",I11<G11),Lookup!$C$9,IF(AND(H11="No",I11<G11),Lookup!$C$10,"UnknownCase"))))))),Lookup!$C$13) | L11: 163.9 | N11: =IF(ISNUMBER(L11),IF(ISBLANK(M11),"",IF(M11>=L11,Lookup!$C$14,Lookup!$C$15)),Lookup!$C$13) | O11: 163.9 | Q11: =IF(ISNUMBER(O11),IF(ISBLANK(P11),"",IF(P11>=O11,Lookup!$C$14,Lookup!$C$15)),Lookup!$C$13)
A12: 10160 | B12: Puncture Drainage Of Lesion | C12: 129.59 | F12: =IF(ISNUMBER(C12),IF(OR(AND(ISBLANK(D12),ISBLANK(E12)),AND(D12="No",ISBLANK(E12))),"",IF(AND(ISBLANK(D12),ISNUMBER(E12)),Lookup!$C$11,IF(AND(D12="Yes",ISBLANK(E12)),Lookup!$C$12,IF(AND(D12="Yes",E12>=C12),Lookup!$C$7,IF(AND(D12="No",E12>=C12),Lookup!$C$8,IF(AND(D12="Yes",E12<C12),Lookup!$C$9,IF(AND(D12="No",E12<C12),Lookup!$C$10,"UnknownCase"))))))),Lookup!$C$13) | G12: 129.59 | J12: =IF(ISNUMBER(G12),IF(OR(AND(ISBLANK(H12),ISBLANK(I12)),AND(H12="No",ISBLANK(I12))),"",IF(AND(ISBLANK(H12),ISNUMBER(I12)),Lookup!$C$11,IF(AND(H12="Yes",ISBLANK(I12)),Lookup!$C$12,IF(AND(H12="Yes",I12>=G12),Lookup!$C$7,IF(AND(H12="No",I12>=G12),Lookup!$C$8,IF(AND(H12="Yes",I12<G12),Lookup!$C$9,IF(AND(H12="No",I12<G12),Lookup!$C$10,"UnknownCase"))))))),Lookup!$C$13) | L12: 125.93 | N12: =IF(ISNUMBER(L12),IF(ISBLANK(M12),"",IF(M12>=L12,Lookup!$C$14,Lookup!$C$15)),Lookup!$C$13) | O12: 125.93 | Q12: =IF(ISNUMBER(O12),IF(ISBLANK(P12),"",IF(P12>=O12,Lookup!$C$14,Lookup!$C$15)),Lookup!$C$13)
A13: 10180 | B13: Complex drainage wound | C13: 262.1 | F13: =IF(ISNUMBER(C13),IF(OR(AND(ISBLANK(D13),ISBLANK(E13)),AND(D13="No",ISBLANK(E13))),"",IF(AND(ISBLANK(D13),ISNUMBER(E13)),Lookup!$C$11,IF(AND(D13="Yes",ISBLANK(E13)),Lookup!$C$12,IF(AND(D13="Yes",E13>=C13),Lookup!$C$7,IF(AND(D13="No",E13>=C13),Lookup!$C$8,IF(AND(D13="Yes",E13<C13),Lookup!$C$9,IF(AND(D13="No",E13<C13),Lookup!$C$10,"UnknownCase"))))))),Lookup!$C$13) | G13: 262.1 | J13: =IF(ISNUMBER(G13),IF(OR(AND(ISBLANK(H13),ISBLANK(I13)),AND(H13="No",ISBLANK(I13))),"",IF(AND(ISBLANK(H13),ISNUMBER(I13)),Lookup!$C$11,IF(AND(H13="Yes",ISBLANK(I13)),Lookup!$C$12,IF(AND(H13="Yes",I13>=G13),Lookup!$C$7,IF(AND(H13="No",I13>=G13),Lookup!$C$8,IF(AND(H13="Yes",I13<G13),Lookup!$C$9,IF(AND(H13="No",I13<G13),Lookup!$C$10,"UnknownCase"))))))),Lookup!$C$13) | L13: 254.36 | N13: =IF(ISNUMBER(L13),IF(ISBLANK(M13),"",IF(M13>=L13,Lookup!$C$14,Lookup!$C$15)),Lookup!$C$13) | O13: 254.36 | Q13: =IF(ISNUMBER(O13),IF(ISBLANK(P13),"",IF(P13>=O13,Lookup!$C$14,Lookup!$C$15)),Lookup!$C$13)
A14: 11000 | B14: Debride Infected Skin | C14: 59.05 | F14: =IF(ISNUMBER(C14),IF(OR(AND(ISBLANK(D14),ISBLANK(E14)),AND(D14="No",ISBLANK(E14))),"",IF(AND(ISBLANK(D14),ISNUMBER(E14)),Lookup!$C$11,IF(AND(D14="Yes",ISBLANK(E14)),Lookup!$C$12,IF(AND(D14="Yes",E14>=C14),Lookup!$C$7,IF(AND(D14="No",E14>=C14),Lookup!$C$8,IF(AND(D14="Yes",E14<C14),Lookup!$C$9,IF(AND(D14="No",E14<C14),Lookup!$C$10,"UnknownCase"))))))),Lookup!$C$13) | G14: 59.05 | J14: =IF(ISNUMBER(G14),IF(OR(AND(ISBLANK(H14),ISBLANK(I14)),AND(H14="No",ISBLANK(I14))),"",IF(AND(ISBLANK(H14),ISNUMBER(I14)),Lookup!$C$11,IF(AND(H14="Yes",ISBLANK(I14)),Lookup!$C$12,IF(AND(H14="Yes",I14>=G14),Lookup!$C$7,IF(AND(H14="No",I14>=G14),Lookup!$C$8,IF(AND(H14="Yes",I14<G14),Lookup!$C$9,IF(AND(H14="No",I14<G14),Lookup!$C$10,"UnknownCase"))))))),Lookup!$C$13) | L14: 56.75 | N14: =IF(ISNUMBER(L14),IF(ISBLANK(M14),"",IF(M14>=L14,Lookup!$C$14,Lookup!$C$15)),Lookup!$C$13) | O14: 56.75 | Q14: =IF(ISNUMBER(O14),IF(ISBLANK(P14),"",IF(P14>=O14,Lookup!$C$14,Lookup!$C$15)),Lookup!$C$13)
A15: 11055 | B15: Trim Skin Lesion Single | C15: 70.82 | F15: =IF(ISNUMBER(C15),IF(OR(AND(ISBLANK(D15),ISBLANK(E15)),AND(D15="No",ISBLANK(E15))),"",IF(AND(ISBLANK(D15),ISNUMBER(E15)),Lookup!$C$11,IF(AND(D15="Yes",ISBLANK(E15)),Lookup!$C$12,IF(AND(D15="Yes",E15>=C15),Lookup!$C$7,IF(AND(D15="No",E15>=C15),Lookup!$C$8,IF(AND(D15="Yes",E15<C15),Lookup!$C$9,IF(AND(D15="No",E15<C15),Lookup!$C$10,"UnknownCase"))))))),Lookup!$C$13) | G15: 70.82 | J15: =IF(ISNUMBER(G15),IF(OR(AND(ISBLANK(H15),ISBLANK(I15)),AND(H15="No",ISBLANK(I15))),"",IF(AND(ISBLANK(H15),ISNUMBER(I15)),Lookup!$C$11,IF(AND(H15="Yes",ISBLANK(I15)),Lookup!$C$12,IF(AND(H15="Yes",I15>=G15),Lookup!$C$7,IF(AND(H15="No",I15>=G15),Lookup!$C$8,IF(AND(H15="Yes",I15<G15),Lookup!$C$9,IF(AND(H15="No",I15<G15),Lookup!$C$10,"UnknownCase"))))))),Lookup!$C$13) | L15: 67.53 | N15: =IF(ISNUMBER(L15),IF(ISBLANK(M15),"",IF(M15>=L15,Lookup!$C$14,Lookup!$C$15)),Lookup!$C$13) | O15: 67.53 | Q15: =IF(ISNUMBER(O15),IF(ISBLANK(P15),"",IF(P15>=O15,Lookup!$C$14,Lookup!$C$15)),Lookup!$C$13)
... A77: 12016 | B77: Rpr fe/e/en/l/m 12.6-20.0 cm | C77: 218.02 | F77: =IF(ISNUMBER(C77),IF(OR(AND(ISBLANK(D77),ISBLANK(E77)),AND(D77="No",ISBLANK(E77))),"",IF(AND(ISBLANK(D77),ISNUMBER(E77)),Lookup!$C$11,IF(AND(D77="Yes",ISBLANK(E77)),Lookup!$C$12,IF(AND(D77="Yes",E77>=C77),Lookup!$C$7,IF(AND(D77="No",E77>=C77),Lookup!$C$8,IF(AND(D77="Yes",E77<C77),Lookup!$C$9,IF(AND(D77="No",E77<C77),Lookup!$C$10,"UnknownCase"))))))),Lookup!$C$13) | G77: 218.02 | J77: =IF(ISNUMBER(G77),IF(OR(AND(ISBLANK(H77),ISBLANK(I77)),AND(H77="No",ISBLANK(I77))),"",IF(AND(ISBLANK(H77),ISNUMBER(I77)),Lookup!$C$11,IF(AND(H77="Yes",ISBLANK(I77)),Lookup!$C$12,IF(AND(H77="Yes",I77>=G77),Lookup!$C$7,IF(AND(H77="No",I77>=G77),Lookup!$C$8,IF(AND(H77="Yes",I77<G77),Lookup!$C$9,IF(AND(H77="No",I77<G77),Lookup!$C$10,"UnknownCase"))))))),Lookup!$C$13) | L77: 213.45 | N77: =IF(ISNUMBER(L77),IF(ISBLANK(M77),"",IF(M77>=L77,Lookup!$C$14,Lookup!$C$15)),Lookup!$C$13) | O77: 213.45 | Q77: =IF(ISNUMBER(O77),IF(ISBLANK(P77),"",IF(P77>=O77,Lookup!$C$14,Lookup!$C$15)),Lookup!$C$13)
A78: 12017 | B78: Rpr fe/e/en/l/m 20.1-30.0 cm | C78: No Medicare Fee Available | F78: =IF(ISNUMBER(C78),IF(OR(AND(ISBLANK(D78),ISBLANK(E78)),AND(D78="No",ISBLANK(E78))),"",IF(AND(ISBLANK(D78),ISNUMBER(E78)),Lookup!$C$11,IF(AND(D78="Yes",ISBLANK(E78)),Lookup!$C$12,IF(AND(D78="Yes",E78>=C78),Lookup!$C$7,IF(AND(D78="No",E78>=C78),Lookup!$C$8,IF(AND(D78="Yes",E78<C78),Lookup!$C$9,IF(AND(D78="No",E78<C78),Lookup!$C$10,"UnknownCase"))))))),Lookup!$C$13) -> No Medicare Fee Available | G78: No Medicare Fee Available | J78: =IF(ISNUMBER(G78),IF(OR(AND(ISBLANK(H78),ISBLANK(I78)),AND(H78="No",ISBLANK(I78))),"",IF(AND(ISBLANK(H78),ISNUMBER(I78)),Lookup!$C$11,IF(AND(H78="Yes",ISBLANK(I78)),Lookup!$C$12,IF(AND(H78="Yes",I78>=G78),Lookup!$C$7,IF(AND(H78="No",I78>=G78),Lookup!$C$8,IF(AND(H78="Yes",I78<G78),Lookup!$C$9,IF(AND(H78="No",I78<G78),Lookup!$C$10,"UnknownCase"))))))),Lookup!$C$13) -> No Medicare Fee Available | L78: 148.42 | N78: =IF(ISNUMBER(L78),IF(ISBLANK(M78),"",IF(M78>=L78,Lookup!$C$14,Lookup!$C$15)),Lookup!$C$13) | O78: 148.42 | Q78: =IF(ISNUMBER(O78),IF(ISBLANK(P78),"",IF(P78>=O78,Lookup!$C$14,Lookup!$C$15)),Lookup!$C$13)
A79: 12018 | B79: Rpr f/e/e/n/l/m >30.0 cm | C79: No Medicare Fee Available | F79: =IF(ISNUMBER(C79),IF(OR(AND(ISBLANK(D79),ISBLANK(E79)),AND(D79="No",ISBLANK(E79))),"",IF(AND(ISBLANK(D79),ISNUMBER(E79)),Lookup!$C$11,IF(AND(D79="Yes",ISBLANK(E79)),Lookup!$C$12,IF(AND(D79="Yes",E79>=C79),Lookup!$C$7,IF(AND(D79="No",E79>=C79),Lookup!$C$8,IF(AND(D79="Yes",E79<C79),Lookup!$C$9,IF(AND(D79="No",E79<C79),Lookup!$C$10,"UnknownCase"))))))),Lookup!$C$13) -> No Medicare Fee Available | G79: No Medicare Fee Available | J79: =IF(ISNUMBER(G79),IF(OR(AND(ISBLANK(H79),ISBLANK(I79)),AND(H79="No",ISBLANK(I79))),"",IF(AND(ISBLANK(H79),ISNUMBER(I79)),Lookup!$C$11,IF(AND(H79="Yes",ISBLANK(I79)),Lookup!$C$12,IF(AND(H79="Yes",I79>=G79),Lookup!$C$7,IF(AND(H79="No",I79>=G79),Lookup!$C$8,IF(AND(H79="Yes",I79<G79),Lookup!$C$9,IF(AND(H79="No",I79<G79),Lookup!$C$10,"UnknownCase"))))))),Lookup!$C$13) -> No Medicare Fee Available | L79: 168.09 | N79: =IF(ISNUMBER(L79),IF(ISBLANK(M79),"",IF(M79>=L79,Lookup!$C$14,Lookup!$C$15)),Lookup!$C$13) | O79: 168.09 | Q79: =IF(ISNUMBER(O79),IF(ISBLANK(P79),"",IF(P79>=O79,Lookup!$C$14,Lookup!$C$15)),Lookup!$C$13)
A80: 12020 | B80: Closure of split wound | C80: 299.09 | F80: =IF(ISNUMBER(C80),IF(OR(AND(ISBLANK(D80),ISBLANK(E80)),AND(D80="No",ISBLANK(E80))),"",IF(AND(ISBLANK(D80),ISNUMBER(E80)),Lookup!$C$11,IF(AND(D80="Yes",ISBLANK(E80)),Lookup!$C$12,IF(AND(D80="Yes",E80>=C80),Lookup!$C$7,IF(AND(D80="No",E80>=C80),Lookup!$C$8,IF(AND(D80="Yes",E80<C80),Lookup!$C$9,IF(AND(D80="No",E80<C80),Lookup!$C$10,"UnknownCase"))))))),Lookup!$C$13) | G80: 299.09 | J80: =IF(ISNUMBER(G80),IF(OR(AND(ISBLANK(H80),ISBLANK(I80)),AND(H80="No",ISBLANK(I80))),"",IF(AND(ISBLANK(H80),ISNUMBER(I80)),Lookup!$C$11,IF(AND(H80="Yes",ISBLANK(I80)),Lookup!$C$12,IF(AND(H80="Yes",I80>=G80),Lookup!$C$7,IF(AND(H80="No",I80>=G80),Lookup!$C$8,IF(AND(H80="Yes",I80<G80),Lookup!$C$9,IF(AND(H80="No",I80<G80),Lookup!$C$10,"UnknownCase"))))))),Lookup!$C$13) | L80: 289.02 | N80: =IF(ISNUMBER(L80),IF(ISBLANK(M80),"",IF(M80>=L80,Lookup!$C$14,Lookup!$C$15)),Lookup!$C$13) | O80: 289.02 | Q80: =IF(ISNUMBER(O80),IF(ISBLANK(P80),"",IF(P80>=O80,Lookup!$C$14,Lookup!$C$15)),Lookup!$C$13)
A81: 12021 | B81: Closure of split wound | C81: 177.29 | F81: =IF(ISNUMBER(C81),IF(OR(AND(ISBLANK(D81),ISBLANK(E81)),AND(D81="No",ISBLANK(E81))),"",IF(AND(ISBLANK(D81),ISNUMBER(E81)),Lookup!$C$11,IF(AND(D81="Yes",ISBLANK(E81)),Lookup!$C$12,IF(AND(D81="Yes",E81>=C81),Lookup!$C$7,IF(AND(D81="No",E81>=C81),Lookup!$C$8,IF(AND(D81="Yes",E81<C81),Lookup!$C$9,IF(AND(D81="No",E81<C81),Lookup!$C$10,"UnknownCase"))))))),Lookup!$C$13) | G81: 177.29 | J81: =IF(ISNUMBER(G81),IF(OR(AND(ISBLANK(H81),ISBLANK(I81)),AND(H81="No",ISBLANK(I81))),"",IF(AND(ISBLANK(H81),ISNUMBER(I81)),Lookup!$C$11,IF(AND(H81="Yes",ISBLANK(I81)),Lookup!$C$12,IF(AND(H81="Yes",I81>=G81),Lookup!$C$7,IF(AND(H81="No",I81>=G81),Lookup!$C$8,IF(AND(H81="Yes",I81<G81),Lookup!$C$9,IF(AND(H81="No",I81<G81),Lookup!$C$10,"UnknownCase"))))))),Lookup!$C$13) | L81: 170.69 | N81: =IF(ISNUMBER(L81),IF(ISBLANK(M81),"",IF(M81>=L81,Lookup!$C$14,Lookup!$C$15)),Lookup!$C$13) | O81: 170.69 | Q81: =IF(ISNUMBER(O81),IF(ISBLANK(P81),"",IF(P81>=O81,Lookup!$C$14,Lookup!$C$15)),Lookup!$C$13)
A82: 12031 | B82: Intmd rpr s/a/t/ext 2.5 cm/< | C82: 261.97 | F82: =IF(ISNUMBER(C82),IF(OR(AND(ISBLANK(D82),ISBLANK(E82)),AND(D82="No",ISBLANK(E82))),"",IF(AND(ISBLANK(D82),ISNUMBER(E82)),Lookup!$C$11,IF(AND(D82="Yes",ISBLANK(E82)),Lookup!$C$12,IF(AND(D82="Yes",E82>=C82),Lookup!$C$7,IF(AND(D82="No",E82>=C82),Lookup!$C$8,IF(AND(D82="Yes",E82<C82),Lookup!$C$9,IF(AND(D82="No",E82<C82),Lookup!$C$10,"UnknownCase"))))))),Lookup!$C$13) | G82: 261.97 | J82: =IF(ISNUMBER(G82),IF(OR(AND(ISBLANK(H82),ISBLANK(I82)),AND(H82="No",ISBLANK(I82))),"",IF(AND(ISBLANK(H82),ISNUMBER(I82)),Lookup!$C$11,IF(AND(H82="Yes",ISBLANK(I82)),Lookup!$C$12,IF(AND(H82="Yes",I82>=G82),Lookup!$C$7,IF(AND(H82="No",I82>=G82),Lookup!$C$8,IF(AND(H82="Yes",I82<G82),Lookup!$C$9,IF(AND(H82="No",I82<G82),Lookup!$C$10,"UnknownCase"))))))),Lookup!$C$13) | L82: 251.69 | N82: =IF(ISNUMBER(L82),IF(ISBLANK(M82),"",IF(M82>=L82,Lookup!$C$14,Lookup!$C$15)),Lookup!$C$13) | O82: 251.69 | Q82: =IF(ISNUMBER(O82),IF(ISBLANK(P82),"",IF(P82>=O82,Lookup!$C$14,Lookup!$C$15)),Lookup!$C$13)
A83: 12032 | B83: Intmd rpr s/a/t/ext 2.6-7.5 | C83: 302.82 | F83: =IF(ISNUMBER(C83),IF(OR(AND(ISBLANK(D83),ISBLANK(E83)),AND(D83="No",ISBLANK(E83))),"",IF(AND(ISBLANK(D83),ISNUMBER(E83)),Lookup!$C$11,IF(AND(D83="Yes",ISBLANK(E83)),Lookup!$C$12,IF(AND(D83="Yes",E83>=C83),Lookup!$C$7,IF(AND(D83="No",E83>=C83),Lookup!$C$8,IF(AND(D83="Yes",E83<C83),Lookup!$C$9,IF(AND(D83="No",E83<C83),Lookup!$C$10,"UnknownCase"))))))),Lookup!$C$13) | G83: 302.82 | J83: =IF(ISNUMBER(G83),IF(OR(AND(ISBLANK(H83),ISBLANK(I83)),AND(H83="No",ISBLANK(I83))),"",IF(AND(ISBLANK(H83),ISNUMBER(I83)),Lookup!$C$11,IF(AND(H83="Yes",ISBLANK(I83)),Lookup!$C$12,IF(AND(H83="Yes",I83>=G83),Lookup!$C$7,IF(AND(H83="No",I83>=G83),Lookup!$C$8,IF(AND(H83="Yes",I83<G83),Lookup!$C$9,IF(AND(H83="No",I83<G83),Lookup!$C$10,"UnknownCase"))))))),Lookup!$C$13) | L83: 292.66 | N83: =IF(ISNUMBER(L83),IF(ISBLANK(M83),"",IF(M83>=L83,Lookup!$C$14,Lookup!$C$15)),Lookup!$C$13) | O83: 292.66 | Q83: =IF(ISNUMBER(O83),IF(ISBLANK(P83),"",IF(P83>=O83,Lookup!$C$14,Lookup!$C$15)),Lookup!$C$13)
A84: 12034 | B84: Intmd rpr s/tr/ext 7.6-12.5 | C84: 333.63 | F84: =IF(ISNUMBER(C84),IF(OR(AND(ISBLANK(D84),ISBLANK(E84)),AND(D84="No",ISBLANK(E84))),"",IF(AND(ISBLANK(D84),ISNUMBER(E84)),Lookup!$C$11,IF(AND(D84="Yes",ISBLANK(E84)),Lookup!$C$12,IF(AND(D84="Yes",E84>=C84),Lookup!$C$7,IF(AND(D84="No",E84>=C84),Lookup!$C$8,IF(AND(D84="Yes",E84<C84),Lookup!$C$9,IF(AND(D84="No",E84<C84),Lookup!$C$10,"UnknownCase"))))))),Lookup!$C$13) | G84: 333.63 | J84: =IF(ISNUMBER(G84),IF(OR(AND(ISBLANK(H84),ISBLANK(I84)),AND(H84="No",ISBLANK(I84))),"",IF(AND(ISBLANK(H84),ISNUMBER(I84)),Lookup!$C$11,IF(AND(H84="Yes",ISBLANK(I84)),Lookup!$C$12,IF(AND(H84="Yes",I84>=G84),Lookup!$C$7,IF(AND(H84="No",I84>=G84),Lookup!$C$8,IF(AND(H84="Yes",I84<G84),Lookup!$C$9,IF(AND(H84="No",I84<G84),Lookup!$C$10,"UnknownCase"))))))),Lookup!$C$13) | L84: 321.65 | N84: =IF(ISNUMBER(L84),IF(ISBLANK(M84),"",IF(M84>=L84,Lookup!$C$14,Lookup!$C$15)),Lookup!$C$13) | O84: 321.65 | Q84: =IF(ISNUMBER(O84),IF(ISBLANK(P84),"",IF(P84>=O84,Lookup!$C$14,Lookup!$C$15)),Lookup!$C$13)
A85: 12035 | B85: Intmd rpr s/a/t/ext 12.6-20 | C85: 387.76 | F85: =IF(ISNUMBER(C85),IF(OR(AND(ISBLANK(D85),ISBLANK(E85)),AND(D85="No",ISBLANK(E85))),"",IF(AND(ISBLANK(D85),ISNUMBER(E85)),Lookup!$C$11,IF(AND(D85="Yes",ISBLANK(E85)),Lookup!$C$12,IF(AND(D85="Yes",E85>=C85),Lookup!$C$7,IF(AND(D85="No",E85>=C85),Lookup!$C$8,IF(AND(D85="Yes",E85<C85),Lookup!$C$9,IF(AND(D85="No",E85<C85),Lookup!$C$10,"UnknownCase"))))))),Lookup!$C$13) | G85: 387.76 | J85: =IF(ISNUMBER(G85),IF(OR(AND(ISBLANK(H85),ISBLANK(I85)),AND(H85="No",ISBLANK(I85))),"",IF(AND(ISBLANK(H85),ISNUMBER(I85)),Lookup!$C$11,IF(AND(H85="Yes",ISBLANK(I85)),Lookup!$C$12,IF(AND(H85="Yes",I85>=G85),Lookup!$C$7,IF(AND(H85="No",I85>=G85),Lookup!$C$8,IF(AND(H85="Yes",I85<G85),Lookup!$C$9,IF(AND(H85="No",I85<G85),Lookup!$C$10,"UnknownCase"))))))),Lookup!$C$13) | L85: 375.83 | N85: =IF(ISNUMBER(L85),IF(ISBLANK(M85),"",IF(M85>=L85,Lookup!$C$14,Lookup!$C$15)),Lookup!$C$13) | O85: 375.83 | Q85: =IF(ISNUMBER(O85),IF(ISBLANK(P85),"",IF(P85>=O85,Lookup!$C$14,Lookup!$C$15)),Lookup!$C$13)
A86: 12036 | B86: Intmd rpr s/a/t/ext 20.1-30 | C86: 432.06 | F86: =IF(ISNUMBER(C86),IF(OR(AND(ISBLANK(D86),ISBLANK(E86)),AND(D86="No",ISBLANK(E86))),"",IF(AND(ISBLANK(D86),ISNUMBER(E86)),Lookup!$C$11,IF(AND(D86="Yes",ISBLANK(E86)),Lookup!$C$12,IF(AND(D86="Yes",E86>=C86),Lookup!$C$7,IF(AND(D86="No",E86>=C86),Lookup!$C$8,IF(AND(D86="Yes",E86<C86),Lookup!$C$9,IF(AND(D86="No",E86<C86),Lookup!$C$10,"UnknownCase"))))))),Lookup!$C$13) | G86: 432.06 | J86: =IF(ISNUMBER(G86),IF(OR(AND(ISBLANK(H86),ISBLANK(I86)),AND(H86="No",ISBLANK(I86))),"",IF(AND(ISBLANK(H86),ISNUMBER(I86)),Lookup!$C$11,IF(AND(H86="Yes",ISBLANK(I86)),Lookup!$C$12,IF(AND(H86="Yes",I86>=G86),Lookup!$C$7,IF(AND(H86="No",I86>=G86),Lookup!$C$8,IF(AND(H86="Yes",I86<G86),Lookup!$C$9,IF(AND(H86="No",I86<G86),Lookup!$C$10,"UnknownCase"))))))),Lookup!$C$13) | L86: 420.52 | N86: =IF(ISNUMBER(L86),IF(ISBLANK(M86),"",IF(M86>=L86,Lookup!$C$14,Lookup!$C$15)),Lookup!$C$13) | O86: 420.52 | Q86: =IF(ISNUMBER(O86),IF(ISBLANK(P86),"",IF(P86>=O86,Lookup!$C$14,Lookup!$C$15)),Lookup!$C$13)
A87: 12037 | B87: Intmd rpr s/tr/ext >30.0 cm | C87: 485.4 | F87: =IF(ISNUMBER(C87),IF(OR(AND(ISBLANK(D87),ISBLANK(E87)),AND(D87="No",ISBLANK(E87))),"",IF(AND(ISBLANK(D87),ISNUMBER(E87)),Lookup!$C$11,IF(AND(D87="Yes",ISBLANK(E87)),Lookup!$C$12,IF(AND(D87="Yes",E87>=C87),Lookup!$C$7,IF(AND(D87="No",E87>=C87),Lookup!$C$8,IF(AND(D87="Yes",E87<C87),Lookup!$C$9,IF(AND(D87="No",E87<C87),Lookup!$C$10,"UnknownCase"))))))),Lookup!$C$13) | G87: 485.4 | J87: =IF(ISNUMBER(G87),IF(OR(AND(ISBLANK(H87),ISBLANK(I87)),AND(H87="No",ISBLANK(I87))),"",IF(AND(ISBLANK(H87),ISNUMBER(I87)),Lookup!$C$11,IF(AND(H87="Yes",ISBLANK(I87)),Lookup!$C$12,IF(AND(H87="Yes",I87>=G87),Lookup!$C$7,IF(AND(H87="No",I87>=G87),Lookup!$C$8,IF(AND(H87="Yes",I87<G87),Lookup!$C$9,IF(AND(H87="No",I87<G87),Lookup!$C$10,"UnknownCase"))))))),Lookup!$C$13) | L87: 471.71 | N87: =IF(ISNUMBER(L87),IF(ISBLANK(M87),"",IF(M87>=L87,Lookup!$C$14,Lookup!$C$15)),Lookup!$C$13) | O87: 471.71 | Q87: =IF(ISNUMBER(O87),IF(ISBLANK(P87),"",IF(P87>=O87,Lookup!$C$14,Lookup!$C$15)),Lookup!$C$13)
A88: 12041 | B88: Intmd rpr n-hf/genit 2.5cm/< | C88: 262.67 | F88: =IF(ISNUMBER(C88),IF(OR(AND(ISBLANK(D88),ISBLANK(E88)),AND(D88="No",ISBLANK(E88))),"",IF(AND(ISBLANK(D88),ISNUMBER(E88)),Lookup!$C$11,IF(AND(D88="Yes",ISBLANK(E88)),Lookup!$C$12,IF(AND(D88="Yes",E88>=C88),Lookup!$C$7,IF(AND(D88="No",E88>=C88),Lookup!$C$8,IF(AND(D88="Yes",E88<C88),Lookup!$C$9,IF(AND(D88="No",E88<C88),Lookup!$C$10,"UnknownCase"))))))),Lookup!$C$13) | G88: 262.67 | J88: =IF(ISNUMBER(G88),IF(OR(AND(ISBLANK(H88),ISBLANK(I88)),AND(H88="No",ISBLANK(I88))),"",IF(AND(ISBLANK(H88),ISNUMBER(I88)),Lookup!$C$11,IF(AND(H88="Yes",ISBLANK(I88)),Lookup!$C$12,IF(AND(H88="Yes",I88>=G88),Lookup!$C$7,IF(AND(H88="No",I88>=G88),Lookup!$C$8,IF(AND(H88="Yes",I88<G88),Lookup!$C$9,IF(AND(H88="No",I88<G88),Lookup!$C$10,"UnknownCase"))))))),Lookup!$C$13) | L88: 252.99 | N88: =IF(ISNUMBER(L88),IF(ISBLANK(M88),"",IF(M88>=L88,Lookup!$C$14,Lookup!$C$15)),Lookup!$C$13) | O88: 252.99 | Q88: =IF(ISNUMBER(O88),IF(ISBLANK(P88),"",IF(P88>=O88,Lookup!$C$14,Lookup!$C$15)),Lookup!$C$13)
A89: 12044 | B89: Intmd rpr n-hf/genit7.6-12.5 | C89: 381.24 | F89: =IF(ISNUMBER(C89),IF(OR(AND(ISBLANK(D89),ISBLANK(E89)),AND(D89="No",ISBLANK(E89))),"",IF(AND(ISBLANK(D89),ISNUMBER(E89)),Lookup!$C$11,IF(AND(D89="Yes",ISBLANK(E89)),Lookup!$C$12,IF(AND(D89="Yes",E89>=C89),Lookup!$C$7,IF(AND(D89="No",E89>=C89),Lookup!$C$8,IF(AND(D89="Yes",E89<C89),Lookup!$C$9,IF(AND(D89="No",E89<C89),Lookup!$C$10,"UnknownCase"))))))),Lookup!$C$13) | G89: 381.24 | J89: =IF(ISNUMBER(G89),IF(OR(AND(ISBLANK(H89),ISBLANK(I89)),AND(H89="No",ISBLANK(I89))),"",IF(AND(ISBLANK(H89),ISNUMBER(I89)),Lookup!$C$11,IF(AND(H89="Yes",ISBLANK(I89)),Lookup!$C$12,IF(AND(H89="Yes",I89>=G89),Lookup!$C$7,IF(AND(H89="No",I89>=G89),Lookup!$C$8,IF(AND(H89="Yes",I89<G89),Lookup!$C$9,IF(AND(H89="No",I89<G89),Lookup!$C$10,"UnknownCase"))))))),Lookup!$C$13) | L89: 368.49 | N89: =IF(ISNUMBER(L89),IF(ISBLANK(M89),"",IF(M89>=L89,Lookup!$C$14,Lookup!$C$15)),Lookup!$C$13) | O89: 368.49 | Q89: =IF(ISNUMBER(O89),IF(ISBLANK(P89),"",IF(P89>=O89,Lookup!$C$14,Lookup!$C$15)),Lookup!$C$13)
A90: 12045 | B90: Intmd rpr n-hf/genit12.6-20 | C90: 411.92 | F90: =IF(ISNUMBER(C90),IF(OR(AND(ISBLANK(D90),ISBLANK(E90)),AND(D90="No",ISBLANK(E90))),"",IF(AND(ISBLANK(D90),ISNUMBER(E90)),Lookup!$C$11,IF(AND(D90="Yes",ISBLANK(E90)),Lookup!$C$12,IF(AND(D90="Yes",E90>=C90),Lookup!$C$7,IF(AND(D90="No",E90>=C90),Lookup!$C$8,IF(AND(D90="Yes",E90<C90),Lookup!$C$9,IF(AND(D90="No",E90<C90),Lookup!$C$10,"UnknownCase"))))))),Lookup!$C$13) | G90: 411.92 | J90: =IF(ISNUMBER(G90),IF(OR(AND(ISBLANK(H90),ISBLANK(I90)),AND(H90="No",ISBLANK(I90))),"",IF(AND(ISBLANK(H90),ISNUMBER(I90)),Lookup!$C$11,IF(AND(H90="Yes",ISBLANK(I90)),Lookup!$C$12,IF(AND(H90="Yes",I90>=G90),Lookup!$C$7,IF(AND(H90="No",I90>=G90),Lookup!$C$8,IF(AND(H90="Yes",I90<G90),Lookup!$C$9,IF(AND(H90="No",I90<G90),Lookup!$C$10,"UnknownCase"))))))),Lookup!$C$13) | L90: 398.39 | N90: =IF(ISNUMBER(L90),IF(ISBLANK(M90),"",IF(M90>=L90,Lookup!$C$14,Lookup!$C$15)),Lookup!$C$13) | O90: 398.39 | Q90: =IF(ISNUMBER(O90),IF(ISBLANK(P90),"",IF(P90>=O90,Lookup!$C$14,Lookup!$C$15)),Lookup!$C$13)
A91: 12046 | B91: Intmd rpr n-hf/genit20.1-30 | C91: 498.46 | F91: =IF(ISNUMBER(C91),IF(OR(AND(ISBLANK(D91),ISBLANK(E91)),AND(D91="No",ISBLANK(E91))),"",IF(AND(ISBLANK(D91),ISNUMBER(E91)),Lookup!$C$11,IF(AND(D91="Yes",ISBLANK(E91)),Lookup!$C$12,IF(AND(D91="Yes",E91>=C91),Lookup!$C$7,IF(AND(D91="No",E91>=C91),Lookup!$C$8,IF(AND(D91="Yes",E91<C91),Lookup!$C$9,IF(AND(D91="No",E91<C91),Lookup!$C$10,"UnknownCase"))))))),Lookup!$C$13) | G91: 498.46 | J91: =IF(ISNUMBER(G91),IF(OR(AND(ISBLANK(H91),ISBLANK(I91)),AND(H91="No",ISBLANK(I91))),"",IF(AND(ISBLANK(H91),ISNUMBER(I91)),Lookup!$C$11,IF(AND(H91="Yes",ISBLANK(I91)),Lookup!$C$12,IF(AND(H91="Yes",I91>=G91),Lookup!$C$7,IF(AND(H91="No",I91>=G91),Lookup!$C$8,IF(AND(H91="Yes",I91<G91),Lookup!$C$9,IF(AND(H91="No",I91<G91),Lookup!$C$10,"UnknownCase"))))))),Lookup!$C$13) | L91: 483.11 | N91: =IF(ISNUMBER(L91),IF(ISBLANK(M91),"",IF(M91>=L91,Lookup!$C$14,Lookup!$C$15)),Lookup!$C$13) | O91: 483.11 | Q91: =IF(ISNUMBER(O91),IF(ISBLANK(P91),"",IF(P91>=O91,Lookup!$C$14,Lookup!$C$15)),Lookup!$C$13)
... A99: 12057 | B99: Intmd rpr face/mm >30.0 cm | C99: 603.77 | F99: =IF(ISNUMBER(C99),IF(OR(AND(ISBLANK(D99),ISBLANK(E99)),AND(D99="No",ISBLANK(E99))),"",IF(AND(ISBLANK(D99),ISNUMBER(E99)),Lookup!$C$11,IF(AND(D99="Yes",ISBLANK(E99)),Lookup!$C$12,IF(AND(D99="Yes",E99>=C99),Lookup!$C$7,IF(AND(D99="No",E99>=C99),Lookup!$C$8,IF(AND(D99="Yes",E99<C99),Lookup!$C$9,IF(AND(D99="No",E99<C99),Lookup!$C$10,"UnknownCase"))))))),Lookup!$C$13) | G99: 603.77 | J99: =IF(ISNUMBER(G99),IF(OR(AND(ISBLANK(H99),ISBLANK(I99)),AND(H99="No",ISBLANK(I99))),"",IF(AND(ISBLANK(H99),ISNUMBER(I99)),Lookup!$C$11,IF(AND(H99="Yes",ISBLANK(I99)),Lookup!$C$12,IF(AND(H99="Yes",I99>=G99),Lookup!$C$7,IF(AND(H99="No",I99>=G99),Lookup!$C$8,IF(AND(H99="Yes",I99<G99),Lookup!$C$9,IF(AND(H99="No",I99<G99),Lookup!$C$10,"UnknownCase"))))))),Lookup!$C$13) | L99: 583.51 | N99: =IF(ISNUMBER(L99),IF(ISBLANK(M99),"",IF(M99>=L99,Lookup!$C$14,Lookup!$C$15)),Lookup!$C$13) | O99: 583.51 | Q99: =IF(ISNUMBER(O99),IF(ISBLANK(P99),"",IF(P99>=O99,Lookup!$C$14,Lookup!$C$15)),Lookup!$C$13)
A100: 13160 | B100: Late closure of wound | C100: No Medicare Fee Available | F100: =IF(ISNUMBER(C100),IF(OR(AND(ISBLANK(D100),ISBLANK(E100)),AND(D100="No",ISBLANK(E100))),"",IF(AND(ISBLANK(D100),ISNUMBER(E100)),Lookup!$C$11,IF(AND(D100="Yes",ISBLANK(E100)),Lookup!$C$12,IF(AND(D100="Yes",E100>=C100),Lookup!$C$7,IF(AND(D100="No",E100>=C100),Lookup!$C$8,IF(AND(D100="Yes",E100<C100),Lookup!$C$9,IF(AND(D100="No",E100<C100),Lookup!$C$10,"UnknownCase"))))))),Lookup!$C$13) -> No Medicare Fee Available | G100: No Medicare Fee Available | J100: =IF(ISNUMBER(G100),IF(OR(AND(ISBLANK(H100),ISBLANK(I100)),AND(H100="No",ISBLANK(I100))),"",IF(AND(ISBLANK(H100),ISNUMBER(I100)),Lookup!$C$11,IF(AND(H100="Yes",ISBLANK(I100)),Lookup!$C$12,IF(AND(H100="Yes",I100>=G100),Lookup!$C$7,IF(AND(H100="No",I100>=G100),Lookup!$C$8,IF(AND(H100="Yes",I100<G100),Lookup!$C$9,IF(AND(H100="No",I100<G100),Lookup!$C$10,"UnknownCase"))))))),Lookup!$C$13) -> No Medicare Fee Available | L100: 777.71 | N100: =IF(ISNUMBER(L100),IF(ISBLANK(M100),"",IF(M100>=L100,Lookup!$C$14,Lookup!$C$15)),Lookup!$C$13) | O100: 777.71 | Q100: =IF(ISNUMBER(O100),IF(ISBLANK(P100),"",IF(P100>=O100,Lookup!$C$14,Lookup!$C$15)),Lookup!$C$13)
A101: 16020 | B101: Dress/debrid p-thick burn s | C101: 85.75 | F101: =IF(ISNUMBER(C101),IF(OR(AND(ISBLANK(D101),ISBLANK(E101)),AND(D101="No",ISBLANK(E101))),"",IF(AND(ISBLANK(D101),ISNUMBER(E101)),Lookup!$C$11,IF(AND(D101="Yes",ISBLANK(E101)),Lookup!$C$12,IF(AND(D101="Yes",E101>=C101),Lookup!$C$7,IF(AND(D101="No",E101>=C101),Lookup!$C$8,IF(AND(D101="Yes",E101<C101),Lookup!$C$9,IF(AND(D101="No",E101<C101),Lookup!$C$10,"UnknownCase"))))))),Lookup!$C$13) | G101: 85.75 | J101: =IF(ISNUMBER(G101),IF(OR(AND(ISBLANK(H101),ISBLANK(I101)),AND(H101="No",ISBLANK(I101))),"",IF(AND(ISBLANK(H101),ISNUMBER(I101)),Lookup!$C$11,IF(AND(H101="Yes",ISBLANK(I101)),Lookup!$C$12,IF(AND(H101="Yes",I101>=G101),Lookup!$C$7,IF(AND(H101="No",I101>=G101),Lookup!$C$8,IF(AND(H101="Yes",I101<G101),Lookup!$C$9,IF(AND(H101="No",I101<G101),Lookup!$C$10,"UnknownCase"))))))),Lookup!$C$13) | L101: 83 | N101: =IF(ISNUMBER(L101),IF(ISBLANK(M101),"",IF(M101>=L101,Lookup!$C$14,Lookup!$C$15)),Lookup!$C$13) | O101: 83 | Q101: =IF(ISNUMBER(O101),IF(ISBLANK(P101),"",IF(P101>=O101,Lookup!$C$14,Lookup!$C$15)),Lookup!$C$13)
A102: 17106 | B102: Destruction of skin lesions | C102: 344.89 | F102: =IF(ISNUMBER(C102),IF(OR(AND(ISBLANK(D102),ISBLANK(E102)),AND(D102="No",ISBLANK(E102))),"",IF(AND(ISBLANK(D102),ISNUMBER(E102)),Lookup!$C$11,IF(AND(D102="Yes",ISBLANK(E102)),Lookup!$C$12,IF(AND(D102="Yes",E102>=C102),Lookup!$C$7,IF(AND(D102="No",E102>=C102),Lookup!$C$8,IF(AND(D102="Yes",E102<C102),Lookup!$C$9,IF(AND(D102="No",E102<C102),Lookup!$C$10,"UnknownCase"))))))),Lookup!$C$13) | G102: 344.89 | J102: =IF(ISNUMBER(G102),IF(OR(AND(ISBLANK(H102),ISBLANK(I102)),AND(H102="No",ISBLANK(I102))),"",IF(AND(ISBLANK(H102),ISNUMBER(I102)),Lookup!$C$11,IF(AND(H102="Yes",ISBLANK(I102)),Lookup!$C$12,IF(AND(H102="Yes",I102>=G102),Lookup!$C$7,IF(AND(H102="No",I102>=G102),Lookup!$C$8,IF(AND(H102="Yes",I102<G102),Lookup!$C$9,IF(AND(H102="No",I102<G102),Lookup!$C$10,"UnknownCase"))))))),Lookup!$C$13) | L102: 336.41 | N102: =IF(ISNUMBER(L102),IF(ISBLANK(M102),"",IF(M102>=L102,Lookup!$C$14,Lookup!$C$15)),Lookup!$C$13) | O102: 336.41 | Q102: =IF(ISNUMBER(O102),IF(ISBLANK(P102),"",IF(P102>=O102,Lookup!$C$14,Lookup!$C$15)),Lookup!$C$13)
A103: 17107 | B103: Destruction of skin lesions | C103: 447.41 | F103: =IF(ISNUMBER(C103),IF(OR(AND(ISBLANK(D103),ISBLANK(E103)),AND(D103="No",ISBLANK(E103))),"",IF(AND(ISBLANK(D103),ISNUMBER(E103)),Lookup!$C$11,IF(AND(D103="Yes",ISBLANK(E103)),Lookup!$C$12,IF(AND(D103="Yes",E103>=C103),Lookup!$C$7,IF(AND(D103="No",E103>=C103),Lookup!$C$8,IF(AND(D103="Yes",E103<C103),Lookup!$C$9,IF(AND(D103="No",E103<C103),Lookup!$C$10,"UnknownCase"))))))),Lookup!$C$13) | G103: 447.41 | J103: =IF(ISNUMBER(G103),IF(OR(AND(ISBLANK(H103),ISBLANK(I103)),AND(H103="No",ISBLANK(I103))),"",IF(AND(ISBLANK(H103),ISNUMBER(I103)),Lookup!$C$11,IF(AND(H103="Yes",ISBLANK(I103)),Lookup!$C$12,IF(AND(H103="Yes",I103>=G103),Lookup!$C$7,IF(AND(H103="No",I103>=G103),Lookup!$C$8,IF(AND(H103="Yes",I103<G103),Lookup!$C$9,IF(AND(H103="No",I103<G103),Lookup!$C$10,"UnknownCase"))))))),Lookup!$C$13) | L103: 437.33 | N103: =IF(ISNUMBER(L103),IF(ISBLANK(M103),"",IF(M103>=L103,Lookup!$C$14,Lookup!$C$15)),Lookup!$C$13) | O103: 437.33 | Q103: =IF(ISNUMBER(O103),IF(ISBLANK(P103),"",IF(P103>=O103,Lookup!$C$14,Lookup!$C$15)),Lookup!$C$13)
A104: 17108 | B104: Destruction of skin lesions | C104: 635.78 | F104: =IF(ISNUMBER(C104),IF(OR(AND(ISBLANK(D104),ISBLANK(E104)),AND(D104="No",ISBLANK(E104))),"",IF(AND(ISBLANK(D104),ISNUMBER(E104)),Lookup!$C$11,IF(AND(D104="Yes",ISBLANK(E104)),Lookup!$C$12,IF(AND(D104="Yes",E104>=C104),Lookup!$C$7,IF(AND(D104="No",E104>=C104),Lookup!$C$8,IF(AND(D104="Yes",E104<C104),Lookup!$C$9,IF(AND(D104="No",E104<C104),Lookup!$C$10,"UnknownCase"))))))),Lookup!$C$13) | G104: 635.78 | J104: =IF(ISNUMBER(G104),IF(OR(AND(ISBLANK(H104),ISBLANK(I104)),AND(H104="No",ISBLANK(I104))),"",IF(AND(ISBLANK(H104),ISNUMBER(I104)),Lookup!$C$11,IF(AND(H104="Yes",ISBLANK(I104)),Lookup!$C$12,IF(AND(H104="Yes",I104>=G104),Lookup!$C$7,IF(AND(H104="No",I104>=G104),Lookup!$C$8,IF(AND(H104="Yes",I104<G104),Lookup!$C$9,IF(AND(H104="No",I104<G104),Lookup!$C$10,"UnknownCase"))))))),Lookup!$C$13) | L104: 620.42 | N104: =IF(ISNUMBER(L104),IF(ISBLANK(M104),"",IF(M104>=L104,Lookup!$C$14,Lookup!$C$15)),Lookup!$C$13) | O104: 620.42 | Q104: =IF(ISNUMBER(O104),IF(ISBLANK(P104),"",IF(P104>=O104,Lookup!$C$14,Lookup!$C$15)),Lookup!$C$13)
A105: 19000 | B105: Drainage Of Breast Lesion | C105: 99.71 | F105: =IF(ISNUMBER(C105),IF(OR(AND(ISBLANK(D105),ISBLANK(E105)),AND(D105="No",ISBLANK(E105))),"",IF(AND(ISBLANK(D105),ISNUMBER(E105)),Lookup!$C$11,IF(AND(D105="Yes",ISBLANK(E105)),Lookup!$C$12,IF(AND(D105="Yes",E105>=C105),Lookup!$C$7,IF(AND(D105="No",E105>=C105),Lookup!$C$8,IF(AND(D105="Yes",E105<C105),Lookup!$C$9,IF(AND(D105="No",E105<C105),Lookup!$C$10,"UnknownCase"))))))),Lookup!$C$13) | G105: 99.71 | J105: =IF(ISNUMBER(G105),IF(OR(AND(ISBLANK(H105),ISBLANK(I105)),AND(H105="No",ISBLANK(I105))),"",IF(AND(ISBLANK(H105),ISNUMBER(I105)),Lookup!$C$11,IF(AND(H105="Yes",ISBLANK(I105)),Lookup!$C$12,IF(AND(H105="Yes",I105>=G105),Lookup!$C$7,IF(AND(H105="No",I105>=G105),Lookup!$C$8,IF(AND(H105="Yes",I105<G105),Lookup!$C$9,IF(AND(H105="No",I105<G105),Lookup!$C$10,"UnknownCase"))))))),Lookup!$C$13) | L105: 93.67 | N105: =IF(ISNUMBER(L105),IF(ISBLANK(M105),"",IF(M105>=L105,Lookup!$C$14,Lookup!$C$15)),Lookup!$C$13) | O105: 93.67 | Q105: =IF(ISNUMBER(O105),IF(ISBLANK(P105),"",IF(P105>=O105,Lookup!$C$14,Lookup!$C$15)),Lookup!$C$13)
A106: 20520 | B106: Removal Of Foreign Body Simple | C106: 217.94 | F106: =IF(ISNUMBER(C106),IF(OR(AND(ISBLANK(D106),ISBLANK(E106)),AND(D106="No",ISBLANK(E106))),"",IF(AND(ISBLANK(D106),ISNUMBER(E106)),Lookup!$C$11,IF(AND(D106="Yes",ISBLANK(E106)),Lookup!$C$12,IF(AND(D106="Yes",E106>=C106),Lookup!$C$7,IF(AND(D106="No",E106>=C106),Lookup!$C$8,IF(AND(D106="Yes",E106<C106),Lookup!$C$9,IF(AND(D106="No",E106<C106),Lookup!$C$10,"UnknownCase"))))))),Lookup!$C$13) | G106: 217.94 | J106: =IF(ISNUMBER(G106),IF(OR(AND(ISBLANK(H106),ISBLANK(I106)),AND(H106="No",ISBLANK(I106))),"",IF(AND(ISBLANK(H106),ISNUMBER(I106)),Lookup!$C$11,IF(AND(H106="Yes",ISBLANK(I106)),Lookup!$C$12,IF(AND(H106="Yes",I106>=G106),Lookup!$C$7,IF(AND(H106="No",I106>=G106),Lookup!$C$8,IF(AND(H106="Yes",I106<G106),Lookup!$C$9,IF(AND(H106="No",I106<G106),Lookup!$C$10,"UnknownCase"))))))),Lookup!$C$13) | L106: 211.14 | N106: =IF(ISNUMBER(L106),IF(ISBLANK(M106),"",IF(M106>=L106,Lookup!$C$14,Lookup!$C$15)),Lookup!$C$13) | O106: 211.14 | Q106: =IF(ISNUMBER(O106),IF(ISBLANK(P106),"",IF(P106>=O106,Lookup!$C$14,Lookup!$C$15)),Lookup!$C$13)
A107: 20550 | B107: Inj Tendon Sheath/Ligament | C107: 57.74 | F107: =IF(ISNUMBER(C107),IF(OR(AND(ISBLANK(D107),ISBLANK(E107)),AND(D107="No",ISBLANK(E107))),"",IF(AND(ISBLANK(D107),ISNUMBER(E107)),Lookup!$C$11,IF(AND(D107="Yes",ISBLANK(E107)),Lookup!$C$12,IF(AND(D107="Yes",E107>=C107),Lookup!$C$7,IF(AND(D107="No",E107>=C107),Lookup!$C$8,IF(AND(D107="Yes",E107<C107),Lookup!$C$9,IF(AND(D107="No",E107<C107),Lookup!$C$10,"UnknownCase"))))))),Lookup!$C$13) | G107: 57.74 | J107: =IF(ISNUMBER(G107),IF(OR(AND(ISBLANK(H107),ISBLANK(I107)),AND(H107="No",ISBLANK(I107))),"",IF(AND(ISBLANK(H107),ISNUMBER(I107)),Lookup!$C$11,IF(AND(H107="Yes",ISBLANK(I107)),Lookup!$C$12,IF(AND(H107="Yes",I107>=G107),Lookup!$C$7,IF(AND(H107="No",I107>=G107),Lookup!$C$8,IF(AND(H107="Yes",I107<G107),Lookup!$C$9,IF(AND(H107="No",I107<G107),Lookup!$C$10,"UnknownCase"))))))),Lookup!$C$13) | L107: 56.43 | N107: =IF(ISNUMBER(L107),IF(ISBLANK(M107),"",IF(M107>=L107,Lookup!$C$14,Lookup!$C$15)),Lookup!$C$13) | O107: 56.43 | Q107: =IF(ISNUMBER(O107),IF(ISBLANK(P107),"",IF(P107>=O107,Lookup!$C$14,Lookup!$C$15)),Lookup!$C$13)
A108: 20551 | B108: Inj Tendon Origin/Insertion | C108: 57.42 | F108: =IF(ISNUMBER(C108),IF(OR(AND(ISBLANK(D108),ISBLANK(E108)),AND(D108="No",ISBLANK(E108))),"",IF(AND(ISBLANK(D108),ISNUMBER(E108)),Lookup!$C$11,IF(AND(D108="Yes",ISBLANK(E108)),Lookup!$C$12,IF(AND(D108="Yes",E108>=C108),Lookup!$C$7,IF(AND(D108="No",E108>=C108),Lookup!$C$8,IF(AND(D108="Yes",E108<C108),Lookup!$C$9,IF(AND(D108="No",E108<C108),Lookup!$C$10,"UnknownCase"))))))),Lookup!$C$13) | G108: 57.42 | J108: =IF(ISNUMBER(G108),IF(OR(AND(ISBLANK(H108),ISBLANK(I108)),AND(H108="No",ISBLANK(I108))),"",IF(AND(ISBLANK(H108),ISNUMBER(I108)),Lookup!$C$11,IF(AND(H108="Yes",ISBLANK(I108)),Lookup!$C$12,IF(AND(H108="Yes",I108>=G108),Lookup!$C$7,IF(AND(H108="No",I108>=G108),Lookup!$C$8,IF(AND(H108="Yes",I108<G108),Lookup!$C$9,IF(AND(H108="No",I108<G108),Lookup!$C$10,"UnknownCase"))))))),Lookup!$C$13) | L108: 55.81 | N108: =IF(ISNUMBER(L108),IF(ISBLANK(M108),"",IF(M108>=L108,Lookup!$C$14,Lookup!$C$15)),Lookup!$C$13) | O108: 55.81 | Q108: =IF(ISNUMBER(O108),IF(ISBLANK(P108),"",IF(P108>=O108,Lookup!$C$14,Lookup!$C$15)),Lookup!$C$13)
...

Sheet 2a. Medicare Parity FFS UP
A1: Please Indicate Market Segment:
E2: Total Potential Underpayment (Facility) | F2: =SUM($F$6:$F$1048576) -> 0 | J2: Total Potential Underpayment (Non-Facility) | K2: =SUM($K$6:$K$1048576) -> 0
E3: 2024 | J3: 2024
E4: Facility Price | J4: Non-Facility Price
A5: Code | B5: Description | C5: Medicare Fee for Delaware (Non-Facility) | D5: Allowed Amount | E5: Utilization | F5: Potential Underpayment | G5: Business Rule or Other Explanation Re: Column D lower than Medicare | H5: Medicare Fee for Delaware (Non-Facility) | I5: Allowed Amount | J5: Utilization | K5: Potential Underpayment | L5: Business Rule or Other Explanation Re: Column I lower than Medicare
B6: =IFERROR(VLOOKUP(A6,'2. Medicare Parity FFS'!$A$4:$G$998,2,0),"") | C6: =IFERROR(VLOOKUP(A6,'2. Medicare Parity FFS'!$A$4:$G$998,3,0),"") | F6: =IF(ISNUMBER(C6),IF(AND(ISBLANK(D6),ISBLANK(E6)),"",IF(ISBLANK(D6),Lookup!$C$16,IF(D6>=C6,0,(C6-D6)*E6))),0) -> 0 | H6: =IFERROR(VLOOKUP(A6,'2. Medicare Parity FFS'!$A$4:$G$998,7,0),"") | K6: =IF(ISNUMBER(H6),IF(AND(ISBLANK(I6),ISBLANK(J6)),"",IF(ISBLANK(I6),Lookup!$C$16,IF(I6>=H6,0,(H6-I6)*J6))),0) -> 0
B7: =IFERROR(VLOOKUP(A7,'2. Medicare Parity FFS'!$A$4:$G$998,2,0),"") | C7: =IFERROR(VLOOKUP(A7,'2. Medicare Parity FFS'!$A$4:$G$998,3,0),"") | F7: =IF(ISNUMBER(C7),IF(AND(ISBLANK(D7),ISBLANK(E7)),"",IF(ISBLANK(D7),Lookup!$C$16,IF(D7>=C7,0,(C7-D7)*E7))),0) -> 0 | H7: =IFERROR(VLOOKUP(A7,'2. Medicare Parity FFS'!$A$4:$G$998,7,0),"") | K7: =IF(ISNUMBER(H7),IF(AND(ISBLANK(I7),ISBLANK(J7)),"",IF(ISBLANK(I7),Lookup!$C$16,IF(I7>=H7,0,(H7-I7)*J7))),0) -> 0
B8: =IFERROR(VLOOKUP(A8,'2. Medicare Parity FFS'!$A$4:$G$998,2,0),"") | C8: =IFERROR(VLOOKUP(A8,'2. Medicare Parity FFS'!$A$4:$G$998,3,0),"") | F8: =IF(ISNUMBER(C8),IF(AND(ISBLANK(D8),ISBLANK(E8)),"",IF(ISBLANK(D8),Lookup!$C$16,IF(D8>=C8,0,(C8-D8)*E8))),0) -> 0 | H8: =IFERROR(VLOOKUP(A8,'2. Medicare Parity FFS'!$A$4:$G$998,7,0),"") | K8: =IF(ISNUMBER(H8),IF(AND(ISBLANK(I8),ISBLANK(J8)),"",IF(ISBLANK(I8),Lookup!$C$16,IF(I8>=H8,0,(H8-I8)*J8))),0) -> 0
B9: =IFERROR(VLOOKUP(A9,'2. Medicare Parity FFS'!$A$4:$G$998,2,0),"") | C9: =IFERROR(VLOOKUP(A9,'2. Medicare Parity FFS'!$A$4:$G$998,3,0),"") | F9: =IF(ISNUMBER(C9),IF(AND(ISBLANK(D9),ISBLANK(E9)),"",IF(ISBLANK(D9),Lookup!$C$16,IF(D9>=C9,0,(C9-D9)*E9))),0) -> 0 | H9: =IFERROR(VLOOKUP(A9,'2. Medicare Parity FFS'!$A$4:$G$998,7,0),"") | K9: =IF(ISNUMBER(H9),IF(AND(ISBLANK(I9),ISBLANK(J9)),"",IF(ISBLANK(I9),Lookup!$C$16,IF(I9>=H9,0,(H9-I9)*J9))),0) -> 0
B10: =IFERROR(VLOOKUP(A10,'2. Medicare Parity FFS'!$A$4:$G$998,2,0),"") | C10: =IFERROR(VLOOKUP(A10,'2. Medicare Parity FFS'!$A$4:$G$998,3,0),"") | F10: =IF(ISNUMBER(C10),IF(AND(ISBLANK(D10),ISBLANK(E10)),"",IF(ISBLANK(D10),Lookup!$C$16,IF(D10>=C10,0,(C10-D10)*E10))),0) -> 0 | H10: =IFERROR(VLOOKUP(A10,'2. Medicare Parity FFS'!$A$4:$G$998,7,0),"") | K10: =IF(ISNUMBER(H10),IF(AND(ISBLANK(I10),ISBLANK(J10)),"",IF(ISBLANK(I10),Lookup!$C$16,IF(I10>=H10,0,(H10-I10)*J10))),0) -> 0
B11: =IFERROR(VLOOKUP(A11,'2. Medicare Parity FFS'!$A$4:$G$998,2,0),"") | C11: =IFERROR(VLOOKUP(A11,'2. Medicare Parity FFS'!$A$4:$G$998,3,0),"") | F11: =IF(ISNUMBER(C11),IF(AND(ISBLANK(D11),ISBLANK(E11)),"",IF(ISBLANK(D11),Lookup!$C$16,IF(D11>=C11,0,(C11-D11)*E11))),0) -> 0 | H11: =IFERROR(VLOOKUP(A11,'2. Medicare Parity FFS'!$A$4:$G$998,7,0),"") | K11: =IF(ISNUMBER(H11),IF(AND(ISBLANK(I11),ISBLANK(J11)),"",IF(ISBLANK(I11),Lookup!$C$16,IF(I11>=H11,0,(H11-I11)*J11))),0) -> 0
B12: =IFERROR(VLOOKUP(A12,'2. Medicare Parity FFS'!$A$4:$G$998,2,0),"") | C12: =IFERROR(VLOOKUP(A12,'2. Medicare Parity FFS'!$A$4:$G$998,3,0),"") | F12: =IF(ISNUMBER(C12),IF(AND(ISBLANK(D12),ISBLANK(E12)),"",IF(ISBLANK(D12),Lookup!$C$16,IF(D12>=C12,0,(C12-D12)*E12))),0) -> 0 | H12: =IFERROR(VLOOKUP(A12,'2. Medicare Parity FFS'!$A$4:$G$998,7,0),"") | K12: =IF(ISNUMBER(H12),IF(AND(ISBLANK(I12),ISBLANK(J12)),"",IF(ISBLANK(I12),Lookup!$C$16,IF(I12>=H12,0,(H12-I12)*J12))),0) -> 0
B13: =IFERROR(VLOOKUP(A13,'2. Medicare Parity FFS'!$A$4:$G$998,2,0),"") | C13: =IFERROR(VLOOKUP(A13,'2. Medicare Parity FFS'!$A$4:$G$998,3,0),"") | F13: =IF(ISNUMBER(C13),IF(AND(ISBLANK(D13),ISBLANK(E13)),"",IF(ISBLANK(D13),Lookup!$C$16,IF(D13>=C13,0,(C13-D13)*E13))),0) -> 0 | H13: =IFERROR(VLOOKUP(A13,'2. Medicare Parity FFS'!$A$4:$G$998,7,0),"") | K13: =IF(ISNUMBER(H13),IF(AND(ISBLANK(I13),ISBLANK(J13)),"",IF(ISBLANK(I13),Lookup!$C$16,IF(I13>=H13,0,(H13-I13)*J13))),0) -> 0
B14: =IFERROR(VLOOKUP(A14,'2. Medicare Parity FFS'!$A$4:$G$998,2,0),"") | C14: =IFERROR(VLOOKUP(A14,'2. Medicare Parity FFS'!$A$4:$G$998,3,0),"") | F14: =IF(ISNUMBER(C14),IF(AND(ISBLANK(D14),ISBLANK(E14)),"",IF(ISBLANK(D14),Lookup!$C$16,IF(D14>=C14,0,(C14-D14)*E14))),0) -> 0 | H14: =IFERROR(VLOOKUP(A14,'2. Medicare Parity FFS'!$A$4:$G$998,7,0),"") | K14: =IF(ISNUMBER(H14),IF(AND(ISBLANK(I14),ISBLANK(J14)),"",IF(ISBLANK(I14),Lookup!$C$16,IF(I14>=H14,0,(H14-I14)*J14))),0) -> 0
B15: =IFERROR(VLOOKUP(A15,'2. Medicare Parity FFS'!$A$4:$G$998,2,0),"") | C15: =IFERROR(VLOOKUP(A15,'2. Medicare Parity FFS'!$A$4:$G$998,3,0),"") | F15: =IF(ISNUMBER(C15),IF(AND(ISBLANK(D15),ISBLANK(E15)),"",IF(ISBLANK(D15),Lookup!$C$16,IF(D15>=C15,0,(C15-D15)*E15))),0) -> 0 | H15: =IFERROR(VLOOKUP(A15,'2. Medicare Parity FFS'!$A$4:$G$998,7,0),"") | K15: =IF(ISNUMBER(H15),IF(AND(ISBLANK(I15),ISBLANK(J15)),"",IF(ISBLANK(I15),Lookup!$C$16,IF(I15>=H15,0,(H15-I15)*J15))),0) -> 0
B16: =IFERROR(VLOOKUP(A16,'2. Medicare Parity FFS'!$A$4:$G$998,2,0),"") | C16: =IFERROR(VLOOKUP(A16,'2. Medicare Parity FFS'!$A$4:$G$998,3,0),"") | F16: =IF(ISNUMBER(C16),IF(AND(ISBLANK(D16),ISBLANK(E16)),"",IF(ISBLANK(D16),Lookup!$C$16,IF(D16>=C16,0,(C16-D16)*E16))),0) -> 0 | H16: =IFERROR(VLOOKUP(A16,'2. Medicare Parity FFS'!$A$4:$G$998,7,0),"") | K16: =IF(ISNUMBER(H16),IF(AND(ISBLANK(I16),ISBLANK(J16)),"",IF(ISBLANK(I16),Lookup!$C$16,IF(I16>=H16,0,(H16-I16)*J16))),0) -> 0
B17: =IFERROR(VLOOKUP(A17,'2. Medicare Parity FFS'!$A$4:$G$998,2,0),"") | C17: =IFERROR(VLOOKUP(A17,'2. Medicare Parity FFS'!$A$4:$G$998,3,0),"") | F17: =IF(ISNUMBER(C17),IF(AND(ISBLANK(D17),ISBLANK(E17)),"",IF(ISBLANK(D17),Lookup!$C$16,IF(D17>=C17,0,(C17-D17)*E17))),0) -> 0 | H17: =IFERROR(VLOOKUP(A17,'2. Medicare Parity FFS'!$A$4:$G$998,7,0),"") | K17: =IF(ISNUMBER(H17),IF(AND(ISBLANK(I17),ISBLANK(J17)),"",IF(ISBLANK(I17),Lookup!$C$16,IF(I17>=H17,0,(H17-I17)*J17))),0) -> 0
... B203: =IFERROR(VLOOKUP(A203,'2. Medicare Parity FFS'!$A$4:$G$998,2,0),"") | C203: =IFERROR(VLOOKUP(A203,'2. Medicare Parity FFS'!$A$4:$G$998,3,0),"") | F203: =IF(ISNUMBER(C203),IF(AND(ISBLANK(D203),ISBLANK(E203)),"",IF(ISBLANK(D203),Lookup!$C$16,IF(D203>=C203,0,(C203-D203)*E203))),0) -> 0 | H203: =IFERROR(VLOOKUP(A203,'2. Medicare Parity FFS'!$A$4:$G$998,7,0),"") | K203: =IF(ISNUMBER(H203),IF(AND(ISBLANK(I203),ISBLANK(J203)),"",IF(ISBLANK(I203),Lookup!$C$16,IF(I203>=H203,0,(H203-I203)*J203))),0) -> 0

Sheet 2b. Medicare Parity NonFFS
A1: Please Report all Market Segments Combined
A3: Question Number | B3: Question | C3: Response
A4: 1 | B4: Does your organization's list of providers participating in care transformation include all practices participating in your organization's primary care incentive programs, the National Committee for Quality Assurance Patient-Centered Medical Home certification program, and Primary Care First (PCF)?
A5: 2 | B5: If no to question 1, please explain.
A6: 3 | B6: Do you plan to participate in the Delaware Primary Care Model?

Sheet 3. PC %Spend DE Attributed Memb
A1: Please Indicate Market Segment:
A2: Reminder: Please use OVBHCD Primary Care definition
C3: HISTORICAL
C5: CY 2022 | H5: CY 2023 | M5: CY 2023 / CY 2022 | P5: CY 2024 | U5: CY 2024 / CY 2023 | Z5: CY 2022 | AB5: CY 2023 | AD5: CY 2024
C6: Completed and Incurred ($) | D6: Completed and Incurred PMPM | E6: Allowed ($) | F6: Allowed PMPM | H6: Completed and Incurred ($) | I6: Completed and Incurred PMPM | J6: Allowed ($) | K6: Allowed PMPM | M6: Completed and Incurred PMPM Trend | N6: Allowed PMPM Trend | P6: Completed and Incurred ($) | Q6: Completed and Incurred PMPM | R6: Allowed ($) | S6: Allowed PMPM | U6: Completed and Incurred PMPM Trend | V6: Allowed PMPM Trend | Z6: Aggregate Utilization | AB6: Aggregate Utilization | AD6: Aggregate Utilization
B7: Inpatient Hospital | D7: =IF($E$38=0,0,C7/$E$38) -> 0 | F7: =IF($E$38=0,0,E7/$E$38) -> 0 | I7: =IF($J$38=0,0,H7/$J$38) -> 0 | K7: =IF($J$38=0,0,J7/$J$38) -> 0 | M7: =IF(D7=0,0,I7/D7-1) -> 0 | N7: =IF(F7=0,0,K7/F7-1) -> 0 | Q7: =IF($R$38=0,0,P7/$R$38) -> 0 | S7: =IF($R$38=0,0,R7/$R$38) -> 0 | U7: =IF(I7=0,0,Q7/I7-1) -> 0 | V7: =IF(K7=0,0,S7/K7-1) -> 0 | Y7: Primary Care (Professional)
B8: Outpatient Hospital | D8: =IF($E$38=0,0,C8/$E$38) -> 0 | F8: =IF($E$38=0,0,E8/$E$38) -> 0 | I8: =IF($J$38=0,0,H8/$J$38) -> 0 | K8: =IF($J$38=0,0,J8/$J$38) -> 0 | M8: =IF(D8=0,0,I8/D8-1) -> 0 | N8: =IF(F8=0,0,K8/F8-1) -> 0 | Q8: =IF($R$38=0,0,P8/$R$38) -> 0 | S8: =IF($R$38=0,0,R8/$R$38) -> 0 | U8: =IF(I8=0,0,Q8/I8-1) -> 0 | V8: =IF(K8=0,0,S8/K8-1) -> 0
B9: Professional | D9: =IF($E$38=0,0,C9/$E$38) -> 0 | F9: =IF($E$38=0,0,E9/$E$38) -> 0 | I9: =IF($J$38=0,0,H9/$J$38) -> 0 | K9: =IF($J$38=0,0,J9/$J$38) -> 0 | M9: =IF(D9=0,0,I9/D9-1) -> 0 | N9: =IF(F9=0,0,K9/F9-1) -> 0 | Q9: =IF($R$38=0,0,P9/$R$38) -> 0 | S9: =IF($R$38=0,0,R9/$R$38) -> 0 | U9: =IF(I9=0,0,Q9/I9-1) -> 0 | V9: =IF(K9=0,0,S9/K9-1) -> 0
B10: Other Medical | D10: =IF($E$38=0,0,C10/$E$38) -> 0 | F10: =IF($E$38=0,0,E10/$E$38) -> 0 | I10: =IF($J$38=0,0,H10/$J$38) -> 0 | K10: =IF($J$38=0,0,J10/$J$38) -> 0 | M10: =IF(D10=0,0,I10/D10-1) -> 0 | N10: =IF(F10=0,0,K10/F10-1) -> 0 | Q10: =IF($R$38=0,0,P10/$R$38) -> 0 | S10: =IF($R$38=0,0,R10/$R$38) -> 0 | U10: =IF(I10=0,0,Q10/I10-1) -> 0 | V10: =IF(K10=0,0,S10/K10-1) -> 0
B12: Capitation
B14: Primary Care Incentive Programs | D14: =IF($E$38=0,0,C14/$E$38) -> 0 | F14: =IF($E$38=0,0,E14/$E$38) -> 0 | I14: =IF($J$38=0,0,H14/$J$38) -> 0 | K14: =IF($J$38=0,0,J14/$J$38) -> 0 | M14: =IF(D14=0,0,I14/D14-1) -> 0 | N14: =IF(F14=0,0,K14/F14-1) -> 0 | Q14: =IF($R$38=0,0,P14/$R$38) -> 0 | S14: =IF($R$38=0,0,R14/$R$38) -> 0 | U14: =IF(I14=0,0,Q14/I14-1) -> 0 | V14: =IF(K14=0,0,S14/K14-1) -> 0
